{"text_format":"3","workbook":"xlsx","n_sheets":4,"sheets":["9  класс ","10 класс ","11 класс ","Лист1"],"read":"whole","date_system":"1900"}

{"sheet":"9  класс ","index":0,"n_rows":4,"n_cols":8,"rows_kept":4,"merged":[[0,0,0,7],[1,1,1,7]]}
["Список обучающихся 9 класса, прошедших на региональный этап всероссийской олимпиады школьников по информатике в 2021 / 2022 учебном году"]
[]
["№ п/п","Фамилия","Имя","Отчество","Класс","Район","Образовательное учреждение","Балл"]
[1,"Фазлиев","Раиль","Айратович",9,"Нижнекамский","МБОУ \"Гимназия №25\" Нижнекамского муниципального района РТ",250]

{"sheet":"10 класс ","index":1,"n_rows":5,"n_cols":8,"rows_kept":5,"merged":[[0,0,0,7],[1,1,1,7]]}
["Список обучающихся 10 класса, прошедших на региональный этап всероссийской олимпиады школьников по информатике в 2021 / 2022 учебном году"]
[]
["№ п/п","Фамилия","Имя","Отчество","Класс","Район","Образовательное учреждение","Балл"]
[1,"Шамсемухаметов","Радмир","Ранасович",10,"Нижнекамский","МБОУ \"Лицей-интернат №24\" Нижнекамского муниципального района РТ",300]
[2,"Мухаметзянов","Ильнур","Радикович",10,"Нижнекамский","МБОУ \"Лицей-интернат №24\" Нижнекамского муниципального района РТ",265]

{"sheet":"11 класс ","index":2,"n_rows":5,"n_cols":8,"rows_kept":5,"merged":[[0,0,0,7],[1,1,1,7]]}
["Список обучающихся 11 класса, прошедших на региональный этап всероссийской олимпиады школьников по информатике в 2021 / 2022 учебном году"]
[]
["№ п/п","Фамилия","Имя","Отчество","Класс","Район","Образовательное учреждение","Балл"]
[1,"Шакиров","Владислав","Фидаилевич",11,"Нижнекамский","МБОУ \"Лицей-интернат №24\" Нижнекамского муниципального района РТ",340]
[2,"Ситдиков","Камиль","Робертович",11,"Нижнекамский","МБОУ \"СОШ №36\" Нижнекамского муниципального района РТ",310]

{"sheet":"Лист1","index":3,"n_rows":238,"n_cols":8,"rows_kept":238,"hidden":true}
[]
[1,{"$f":"#REF!","v":{"$error":"#REF!"}},{"$f":"#REF!","v":{"$error":"#REF!"}},{"$f":"#REF!","v":{"$error":"#REF!"}},{"$f":"#REF!","v":{"$error":"#REF!"}},{"$f":"#REF!","v":{"$error":"#REF!"}},{"$f":"#REF!","v":{"$error":"#REF!"}},{"$f":"#REF!","v":{"$error":"#REF!"}}]
[2,{"$f":"#REF!","v":{"$error":"#REF!"}},{"$f":"#REF!","v":{"$error":"#REF!"}},{"$f":"#REF!","v":{"$error":"#REF!"}},{"$f":"#REF!","v":{"$error":"#REF!"}},{"$f":"#REF!","v":{"$error":"#REF!"}},{"$f":"#REF!","v":{"$error":"#REF!"}},{"$f":"#REF!","v":{"$error":"#REF!"}}]
[3,{"$f":"#REF!","v":{"$error":"#REF!"}},{"$f":"#REF!","v":{"$error":"#REF!"}},{"$f":"#REF!","v":{"$error":"#REF!"}},{"$f":"#REF!","v":{"$error":"#REF!"}},{"$f":"#REF!","v":{"$error":"#REF!"}},{"$f":"#REF!","v":{"$error":"#REF!"}},{"$f":"#REF!","v":{"$error":"#REF!"}}]
[4,{"$f":"#REF!","v":{"$error":"#REF!"}},{"$f":"#REF!","v":{"$error":"#REF!"}},{"$f":"#REF!","v":{"$error":"#REF!"}},{"$f":"#REF!","v":{"$error":"#REF!"}},{"$f":"#REF!","v":{"$error":"#REF!"}},{"$f":"#REF!","v":{"$error":"#REF!"}},{"$f":"#REF!","v":{"$error":"#REF!"}}]
[5,{"$f":"#REF!","v":{"$error":"#REF!"}},{"$f":"#REF!","v":{"$error":"#REF!"}},{"$f":"#REF!","v":{"$error":"#REF!"}},{"$f":"#REF!","v":{"$error":"#REF!"}},{"$f":"#REF!","v":{"$error":"#REF!"}},{"$f":"#REF!","v":{"$error":"#REF!"}},{"$f":"#REF!","v":{"$error":"#REF!"}}]
[6,{"$f":"#REF!","v":{"$error":"#REF!"}},{"$f":"#REF!","v":{"$error":"#REF!"}},{"$f":"#REF!","v":{"$error":"#REF!"}},{"$f":"#REF!","v":{"$error":"#REF!"}},{"$f":"#REF!","v":{"$error":"#REF!"}},{"$f":"#REF!","v":{"$error":"#REF!"}},{"$f":"#REF!","v":{"$error":"#REF!"}}]
[7,{"$f":"#REF!","v":{"$error":"#REF!"}},{"$f":"#REF!","v":{"$error":"#REF!"}},{"$f":"#REF!","v":{"$error":"#REF!"}},{"$f":"#REF!","v":{"$error":"#REF!"}},{"$f":"#REF!","v":{"$error":"#REF!"}},{"$f":"#REF!","v":{"$error":"#REF!"}},{"$f":"#REF!","v":{"$error":"#REF!"}}]
[8,{"$f":"#REF!","v":{"$error":"#REF!"}},{"$f":"#REF!","v":{"$error":"#REF!"}},{"$f":"#REF!","v":{"$error":"#REF!"}},{"$f":"#REF!","v":{"$error":"#REF!"}},{"$f":"#REF!","v":{"$error":"#REF!"}},{"$f":"#REF!","v":{"$error":"#REF!"}},{"$f":"#REF!","v":{"$error":"#REF!"}}]
[9,{"$f":"#REF!","v":{"$error":"#REF!"}},{"$f":"#REF!","v":{"$error":"#REF!"}},{"$f":"#REF!","v":{"$error":"#REF!"}},{"$f":"#REF!","v":{"$error":"#REF!"}},{"$f":"#REF!","v":{"$error":"#REF!"}},{"$f":"#REF!","v":{"$error":"#REF!"}},{"$f":"#REF!","v":{"$error":"#REF!"}}]
[10,{"$f":"#REF!","v":{"$error":"#REF!"}},{"$f":"#REF!","v":{"$error":"#REF!"}},{"$f":"#REF!","v":{"$error":"#REF!"}},{"$f":"#REF!","v":{"$error":"#REF!"}},{"$f":"#REF!","v":{"$error":"#REF!"}},{"$f":"#REF!","v":{"$error":"#REF!"}},{"$f":"#REF!","v":{"$error":"#REF!"}}]
[11,{"$f":"#REF!","v":{"$error":"#REF!"}},{"$f":"#REF!","v":{"$error":"#REF!"}},{"$f":"#REF!","v":{"$error":"#REF!"}},{"$f":"#REF!","v":{"$error":"#REF!"}},{"$f":"#REF!","v":{"$error":"#REF!"}},{"$f":"#REF!","v":{"$error":"#REF!"}},{"$f":"#REF!","v":{"$error":"#REF!"}}]
[12,{"$f":"#REF!","v":{"$error":"#REF!"}},{"$f":"#REF!","v":{"$error":"#REF!"}},{"$f":"#REF!","v":{"$error":"#REF!"}},{"$f":"#REF!","v":{"$error":"#REF!"}},{"$f":"#REF!","v":{"$error":"#REF!"}},{"$f":"#REF!","v":{"$error":"#REF!"}},{"$f":"#REF!","v":{"$error":"#REF!"}}]
[13,{"$f":"#REF!","v":{"$error":"#REF!"}},{"$f":"#REF!","v":{"$error":"#REF!"}},{"$f":"#REF!","v":{"$error":"#REF!"}},{"$f":"#REF!","v":{"$error":"#REF!"}},{"$f":"#REF!","v":{"$error":"#REF!"}},{"$f":"#REF!","v":{"$error":"#REF!"}},{"$f":"#REF!","v":{"$error":"#REF!"}}]
[14,{"$f":"#REF!","v":{"$error":"#REF!"}},{"$f":"#REF!","v":{"$error":"#REF!"}},{"$f":"#REF!","v":{"$error":"#REF!"}},{"$f":"#REF!","v":{"$error":"#REF!"}},{"$f":"#REF!","v":{"$error":"#REF!"}},{"$f":"#REF!","v":{"$error":"#REF!"}},{"$f":"#REF!","v":{"$error":"#REF!"}}]
[15,{"$f":"#REF!","v":{"$error":"#REF!"}},{"$f":"#REF!","v":{"$error":"#REF!"}},{"$f":"#REF!","v":{"$error":"#REF!"}},{"$f":"#REF!","v":{"$error":"#REF!"}},{"$f":"#REF!","v":{"$error":"#REF!"}},{"$f":"#REF!","v":{"$error":"#REF!"}},{"$f":"#REF!","v":{"$error":"#REF!"}}]
[16,{"$f":"#REF!","v":{"$error":"#REF!"}},{"$f":"#REF!","v":{"$error":"#REF!"}},{"$f":"#REF!","v":{"$error":"#REF!"}},{"$f":"#REF!","v":{"$error":"#REF!"}},{"$f":"#REF!","v":{"$error":"#REF!"}},{"$f":"#REF!","v":{"$error":"#REF!"}},{"$f":"#REF!","v":{"$error":"#REF!"}}]
[17,{"$f":"#REF!","v":{"$error":"#REF!"}},{"$f":"#REF!","v":{"$error":"#REF!"}},{"$f":"#REF!","v":{"$error":"#REF!"}},{"$f":"#REF!","v":{"$error":"#REF!"}},{"$f":"#REF!","v":{"$error":"#REF!"}},{"$f":"#REF!","v":{"$error":"#REF!"}},{"$f":"#REF!","v":{"$error":"#REF!"}}]
[18,{"$f":"#REF!","v":{"$error":"#REF!"}},{"$f":"#REF!","v":{"$error":"#REF!"}},{"$f":"#REF!","v":{"$error":"#REF!"}},{"$f":"#REF!","v":{"$error":"#REF!"}},{"$f":"#REF!","v":{"$error":"#REF!"}},{"$f":"#REF!","v":{"$error":"#REF!"}},{"$f":"#REF!","v":{"$error":"#REF!"}}]
[19,{"$f":"#REF!","v":{"$error":"#REF!"}},{"$f":"#REF!","v":{"$error":"#REF!"}},{"$f":"#REF!","v":{"$error":"#REF!"}},{"$f":"#REF!","v":{"$error":"#REF!"}},{"$f":"#REF!","v":{"$error":"#REF!"}},{"$f":"#REF!","v":{"$error":"#REF!"}},{"$f":"#REF!","v":{"$error":"#REF!"}}]
[20,{"$f":"#REF!","v":{"$error":"#REF!"}},{"$f":"#REF!","v":{"$error":"#REF!"}},{"$f":"#REF!","v":{"$error":"#REF!"}},{"$f":"#REF!","v":{"$error":"#REF!"}},{"$f":"#REF!","v":{"$error":"#REF!"}},{"$f":"#REF!","v":{"$error":"#REF!"}},{"$f":"#REF!","v":{"$error":"#REF!"}}]
[21,{"$f":"#REF!","v":{"$error":"#REF!"}},{"$f":"#REF!","v":{"$error":"#REF!"}},{"$f":"#REF!","v":{"$error":"#REF!"}},{"$f":"#REF!","v":{"$error":"#REF!"}},{"$f":"#REF!","v":{"$error":"#REF!"}},{"$f":"#REF!","v":{"$error":"#REF!"}},{"$f":"#REF!","v":{"$error":"#REF!"}}]
[22,{"$f":"#REF!","v":{"$error":"#REF!"}},{"$f":"#REF!","v":{"$error":"#REF!"}},{"$f":"#REF!","v":{"$error":"#REF!"}},{"$f":"#REF!","v":{"$error":"#REF!"}},{"$f":"#REF!","v":{"$error":"#REF!"}},{"$f":"#REF!","v":{"$error":"#REF!"}},{"$f":"#REF!","v":{"$error":"#REF!"}}]
[23,{"$f":"#REF!","v":{"$error":"#REF!"}},{"$f":"#REF!","v":{"$error":"#REF!"}},{"$f":"#REF!","v":{"$error":"#REF!"}},{"$f":"#REF!","v":{"$error":"#REF!"}},{"$f":"#REF!","v":{"$error":"#REF!"}},{"$f":"#REF!","v":{"$error":"#REF!"}},{"$f":"#REF!","v":{"$error":"#REF!"}}]
[24,{"$f":"#REF!","v":{"$error":"#REF!"}},{"$f":"#REF!","v":{"$error":"#REF!"}},{"$f":"#REF!","v":{"$error":"#REF!"}},{"$f":"#REF!","v":{"$error":"#REF!"}},{"$f":"#REF!","v":{"$error":"#REF!"}},{"$f":"#REF!","v":{"$error":"#REF!"}},{"$f":"#REF!","v":{"$error":"#REF!"}}]
[25,{"$f":"#REF!","v":{"$error":"#REF!"}},{"$f":"#REF!","v":{"$error":"#REF!"}},{"$f":"#REF!","v":{"$error":"#REF!"}},{"$f":"#REF!","v":{"$error":"#REF!"}},{"$f":"#REF!","v":{"$error":"#REF!"}},{"$f":"#REF!","v":{"$error":"#REF!"}},{"$f":"#REF!","v":{"$error":"#REF!"}}]
[26,{"$f":"#REF!","v":{"$error":"#REF!"}},{"$f":"#REF!","v":{"$error":"#REF!"}},{"$f":"#REF!","v":{"$error":"#REF!"}},{"$f":"#REF!","v":{"$error":"#REF!"}},{"$f":"#REF!","v":{"$error":"#REF!"}},{"$f":"#REF!","v":{"$error":"#REF!"}},{"$f":"#REF!","v":{"$error":"#REF!"}}]
[27,{"$f":"#REF!","v":{"$error":"#REF!"}},{"$f":"#REF!","v":{"$error":"#REF!"}},{"$f":"#REF!","v":{"$error":"#REF!"}},{"$f":"#REF!","v":{"$error":"#REF!"}},{"$f":"#REF!","v":{"$error":"#REF!"}},{"$f":"#REF!","v":{"$error":"#REF!"}},{"$f":"#REF!","v":{"$error":"#REF!"}}]
[28,{"$f":"#REF!","v":{"$error":"#REF!"}},{"$f":"#REF!","v":{"$error":"#REF!"}},{"$f":"#REF!","v":{"$error":"#REF!"}},{"$f":"#REF!","v":{"$error":"#REF!"}},{"$f":"#REF!","v":{"$error":"#REF!"}},{"$f":"#REF!","v":{"$error":"#REF!"}},{"$f":"#REF!","v":{"$error":"#REF!"}}]
[29,{"$f":"#REF!","v":{"$error":"#REF!"}},{"$f":"#REF!","v":{"$error":"#REF!"}},{"$f":"#REF!","v":{"$error":"#REF!"}},{"$f":"#REF!","v":{"$error":"#REF!"}},{"$f":"#REF!","v":{"$error":"#REF!"}},{"$f":"#REF!","v":{"$error":"#REF!"}},{"$f":"#REF!","v":{"$error":"#REF!"}}]
[30,{"$f":"#REF!","v":{"$error":"#REF!"}},{"$f":"#REF!","v":{"$error":"#REF!"}},{"$f":"#REF!","v":{"$error":"#REF!"}},{"$f":"#REF!","v":{"$error":"#REF!"}},{"$f":"#REF!","v":{"$error":"#REF!"}},{"$f":"#REF!","v":{"$error":"#REF!"}},{"$f":"#REF!","v":{"$error":"#REF!"}}]
[31,{"$f":"#REF!","v":{"$error":"#REF!"}},{"$f":"#REF!","v":{"$error":"#REF!"}},{"$f":"#REF!","v":{"$error":"#REF!"}},{"$f":"#REF!","v":{"$error":"#REF!"}},{"$f":"#REF!","v":{"$error":"#REF!"}},{"$f":"#REF!","v":{"$error":"#REF!"}},{"$f":"#REF!","v":{"$error":"#REF!"}}]
[32,{"$f":"#REF!","v":{"$error":"#REF!"}},{"$f":"#REF!","v":{"$error":"#REF!"}},{"$f":"#REF!","v":{"$error":"#REF!"}},{"$f":"#REF!","v":{"$error":"#REF!"}},{"$f":"#REF!","v":{"$error":"#REF!"}},{"$f":"#REF!","v":{"$error":"#REF!"}},{"$f":"#REF!","v":{"$error":"#REF!"}}]
[33,{"$f":"#REF!","v":{"$error":"#REF!"}},{"$f":"#REF!","v":{"$error":"#REF!"}},{"$f":"#REF!","v":{"$error":"#REF!"}},{"$f":"#REF!","v":{"$error":"#REF!"}},{"$f":"#REF!","v":{"$error":"#REF!"}},{"$f":"#REF!","v":{"$error":"#REF!"}},{"$f":"#REF!","v":{"$error":"#REF!"}}]
[34,{"$f":"#REF!","v":{"$error":"#REF!"}},{"$f":"#REF!","v":{"$error":"#REF!"}},{"$f":"#REF!","v":{"$error":"#REF!"}},{"$f":"#REF!","v":{"$error":"#REF!"}},{"$f":"#REF!","v":{"$error":"#REF!"}},{"$f":"#REF!","v":{"$error":"#REF!"}},{"$f":"#REF!","v":{"$error":"#REF!"}}]
[35,{"$f":"#REF!","v":{"$error":"#REF!"}},{"$f":"#REF!","v":{"$error":"#REF!"}},{"$f":"#REF!","v":{"$error":"#REF!"}},{"$f":"#REF!","v":{"$error":"#REF!"}},{"$f":"#REF!","v":{"$error":"#REF!"}},{"$f":"#REF!","v":{"$error":"#REF!"}},{"$f":"#REF!","v":{"$error":"#REF!"}}]
[36,{"$f":"#REF!","v":{"$error":"#REF!"}},{"$f":"#REF!","v":{"$error":"#REF!"}},{"$f":"#REF!","v":{"$error":"#REF!"}},{"$f":"#REF!","v":{"$error":"#REF!"}},{"$f":"#REF!","v":{"$error":"#REF!"}},{"$f":"#REF!","v":{"$error":"#REF!"}},{"$f":"#REF!","v":{"$error":"#REF!"}}]
[37,{"$f":"#REF!","v":{"$error":"#REF!"}},{"$f":"#REF!","v":{"$error":"#REF!"}},{"$f":"#REF!","v":{"$error":"#REF!"}},{"$f":"#REF!","v":{"$error":"#REF!"}},{"$f":"#REF!","v":{"$error":"#REF!"}},{"$f":"#REF!","v":{"$error":"#REF!"}},{"$f":"#REF!","v":{"$error":"#REF!"}}]
[38,{"$f":"#REF!","v":{"$error":"#REF!"}},{"$f":"#REF!","v":{"$error":"#REF!"}},{"$f":"#REF!","v":{"$error":"#REF!"}},{"$f":"#REF!","v":{"$error":"#REF!"}},{"$f":"#REF!","v":{"$error":"#REF!"}},{"$f":"#REF!","v":{"$error":"#REF!"}},{"$f":"#REF!","v":{"$error":"#REF!"}}]
[39,{"$f":"#REF!","v":{"$error":"#REF!"}},{"$f":"#REF!","v":{"$error":"#REF!"}},{"$f":"#REF!","v":{"$error":"#REF!"}},{"$f":"#REF!","v":{"$error":"#REF!"}},{"$f":"#REF!","v":{"$error":"#REF!"}},{"$f":"#REF!","v":{"$error":"#REF!"}},{"$f":"#REF!","v":{"$error":"#REF!"}}]
[40,{"$f":"#REF!","v":{"$error":"#REF!"}},{"$f":"#REF!","v":{"$error":"#REF!"}},{"$f":"#REF!","v":{"$error":"#REF!"}},{"$f":"#REF!","v":{"$error":"#REF!"}},{"$f":"#REF!","v":{"$error":"#REF!"}},{"$f":"#REF!","v":{"$error":"#REF!"}},{"$f":"#REF!","v":{"$error":"#REF!"}}]
[41,{"$f":"#REF!","v":{"$error":"#REF!"}},{"$f":"#REF!","v":{"$error":"#REF!"}},{"$f":"#REF!","v":{"$error":"#REF!"}},{"$f":"#REF!","v":{"$error":"#REF!"}},{"$f":"#REF!","v":{"$error":"#REF!"}},{"$f":"#REF!","v":{"$error":"#REF!"}},{"$f":"#REF!","v":{"$error":"#REF!"}}]
[42,{"$f":"#REF!","v":{"$error":"#REF!"}},{"$f":"#REF!","v":{"$error":"#REF!"}},{"$f":"#REF!","v":{"$error":"#REF!"}},{"$f":"#REF!","v":{"$error":"#REF!"}},{"$f":"#REF!","v":{"$error":"#REF!"}},{"$f":"#REF!","v":{"$error":"#REF!"}},{"$f":"#REF!","v":{"$error":"#REF!"}}]
[43,{"$f":"#REF!","v":{"$error":"#REF!"}},{"$f":"#REF!","v":{"$error":"#REF!"}},{"$f":"#REF!","v":{"$error":"#REF!"}},{"$f":"#REF!","v":{"$error":"#REF!"}},{"$f":"#REF!","v":{"$error":"#REF!"}},{"$f":"#REF!","v":{"$error":"#REF!"}},{"$f":"#REF!","v":{"$error":"#REF!"}}]
[44,{"$f":"#REF!","v":{"$error":"#REF!"}},{"$f":"#REF!","v":{"$error":"#REF!"}},{"$f":"#REF!","v":{"$error":"#REF!"}},{"$f":"#REF!","v":{"$error":"#REF!"}},{"$f":"#REF!","v":{"$error":"#REF!"}},{"$f":"#REF!","v":{"$error":"#REF!"}},{"$f":"#REF!","v":{"$error":"#REF!"}}]
[45,{"$f":"#REF!","v":{"$error":"#REF!"}},{"$f":"#REF!","v":{"$error":"#REF!"}},{"$f":"#REF!","v":{"$error":"#REF!"}},{"$f":"#REF!","v":{"$error":"#REF!"}},{"$f":"#REF!","v":{"$error":"#REF!"}},{"$f":"#REF!","v":{"$error":"#REF!"}},{"$f":"#REF!","v":{"$error":"#REF!"}}]
[46,{"$f":"#REF!","v":{"$error":"#REF!"}},{"$f":"#REF!","v":{"$error":"#REF!"}},{"$f":"#REF!","v":{"$error":"#REF!"}},{"$f":"#REF!","v":{"$error":"#REF!"}},{"$f":"#REF!","v":{"$error":"#REF!"}},{"$f":"#REF!","v":{"$error":"#REF!"}},{"$f":"#REF!","v":{"$error":"#REF!"}}]
[47,{"$f":"#REF!","v":{"$error":"#REF!"}},{"$f":"#REF!","v":{"$error":"#REF!"}},{"$f":"#REF!","v":{"$error":"#REF!"}},{"$f":"#REF!","v":{"$error":"#REF!"}},{"$f":"#REF!","v":{"$error":"#REF!"}},{"$f":"#REF!","v":{"$error":"#REF!"}},{"$f":"#REF!","v":{"$error":"#REF!"}}]
[48,{"$f":"#REF!","v":{"$error":"#REF!"}},{"$f":"#REF!","v":{"$error":"#REF!"}},{"$f":"#REF!","v":{"$error":"#REF!"}},{"$f":"#REF!","v":{"$error":"#REF!"}},{"$f":"#REF!","v":{"$error":"#REF!"}},{"$f":"#REF!","v":{"$error":"#REF!"}},{"$f":"#REF!","v":{"$error":"#REF!"}}]
[49,{"$f":"#REF!","v":{"$error":"#REF!"}},{"$f":"#REF!","v":{"$error":"#REF!"}},{"$f":"#REF!","v":{"$error":"#REF!"}},{"$f":"#REF!","v":{"$error":"#REF!"}},{"$f":"#REF!","v":{"$error":"#REF!"}},{"$f":"#REF!","v":{"$error":"#REF!"}},{"$f":"#REF!","v":{"$error":"#REF!"}}]
[50,{"$f":"#REF!","v":{"$error":"#REF!"}},{"$f":"#REF!","v":{"$error":"#REF!"}},{"$f":"#REF!","v":{"$error":"#REF!"}},{"$f":"#REF!","v":{"$error":"#REF!"}},{"$f":"#REF!","v":{"$error":"#REF!"}},{"$f":"#REF!","v":{"$error":"#REF!"}},{"$f":"#REF!","v":{"$error":"#REF!"}}]
[51,{"$f":"#REF!","v":{"$error":"#REF!"}},{"$f":"#REF!","v":{"$error":"#REF!"}},{"$f":"#REF!","v":{"$error":"#REF!"}},{"$f":"#REF!","v":{"$error":"#REF!"}},{"$f":"#REF!","v":{"$error":"#REF!"}},{"$f":"#REF!","v":{"$error":"#REF!"}},{"$f":"#REF!","v":{"$error":"#REF!"}}]
[52,{"$f":"#REF!","v":{"$error":"#REF!"}},{"$f":"#REF!","v":{"$error":"#REF!"}},{"$f":"#REF!","v":{"$error":"#REF!"}},{"$f":"#REF!","v":{"$error":"#REF!"}},{"$f":"#REF!","v":{"$error":"#REF!"}},{"$f":"#REF!","v":{"$error":"#REF!"}},{"$f":"#REF!","v":{"$error":"#REF!"}}]
[53,{"$f":"#REF!","v":{"$error":"#REF!"}},{"$f":"#REF!","v":{"$error":"#REF!"}},{"$f":"#REF!","v":{"$error":"#REF!"}},{"$f":"#REF!","v":{"$error":"#REF!"}},{"$f":"#REF!","v":{"$error":"#REF!"}},{"$f":"#REF!","v":{"$error":"#REF!"}},{"$f":"#REF!","v":{"$error":"#REF!"}}]
[54,{"$f":"#REF!","v":{"$error":"#REF!"}},{"$f":"#REF!","v":{"$error":"#REF!"}},{"$f":"#REF!","v":{"$error":"#REF!"}},{"$f":"#REF!","v":{"$error":"#REF!"}},{"$f":"#REF!","v":{"$error":"#REF!"}},{"$f":"#REF!","v":{"$error":"#REF!"}},{"$f":"#REF!","v":{"$error":"#REF!"}}]
[55,{"$f":"'9  класс '!#REF!","v":{"$error":"#REF!"}},{"$f":"'9  класс '!#REF!","v":{"$error":"#REF!"}},{"$f":"'9  класс '!#REF!","v":{"$error":"#REF!"}},{"$f":"'9  класс '!#REF!","v":{"$error":"#REF!"}},{"$f":"'9  класс '!#REF!","v":{"$error":"#REF!"}},{"$f":"'9  класс '!#REF!","v":{"$error":"#REF!"}},{"$f":"'9  класс '!#REF!","v":{"$error":"#REF!"}}]
[56,{"$f":"'9  класс '!#REF!","v":{"$error":"#REF!"}},{"$f":"'9  класс '!#REF!","v":{"$error":"#REF!"}},{"$f":"'9  класс '!#REF!","v":{"$error":"#REF!"}},{"$f":"'9  класс '!#REF!","v":{"$error":"#REF!"}},{"$f":"'9  класс '!#REF!","v":{"$error":"#REF!"}},{"$f":"'9  класс '!#REF!","v":{"$error":"#REF!"}},{"$f":"'9  класс '!#REF!","v":{"$error":"#REF!"}}]
[57,{"$f":"'9  класс '!#REF!","v":{"$error":"#REF!"}},{"$f":"'9  класс '!#REF!","v":{"$error":"#REF!"}},{"$f":"'9  класс '!#REF!","v":{"$error":"#REF!"}},{"$f":"'9  класс '!#REF!","v":{"$error":"#REF!"}},{"$f":"'9  класс '!#REF!","v":{"$error":"#REF!"}},{"$f":"'9  класс '!#REF!","v":{"$error":"#REF!"}},{"$f":"'9  класс '!#REF!","v":{"$error":"#REF!"}}]
[58,{"$f":"'9  класс '!#REF!","v":{"$error":"#REF!"}},{"$f":"'9  класс '!#REF!","v":{"$error":"#REF!"}},{"$f":"'9  класс '!#REF!","v":{"$error":"#REF!"}},{"$f":"'9  класс '!#REF!","v":{"$error":"#REF!"}},{"$f":"'9  класс '!#REF!","v":{"$error":"#REF!"}},{"$f":"'9  класс '!#REF!","v":{"$error":"#REF!"}},{"$f":"'9  класс '!#REF!","v":{"$error":"#REF!"}}]
[59,{"$f":"'9  класс '!#REF!","v":{"$error":"#REF!"}},{"$f":"'9  класс '!#REF!","v":{"$error":"#REF!"}},{"$f":"'9  класс '!#REF!","v":{"$error":"#REF!"}},{"$f":"'9  класс '!#REF!","v":{"$error":"#REF!"}},{"$f":"'9  класс '!#REF!","v":{"$error":"#REF!"}},{"$f":"'9  класс '!#REF!","v":{"$error":"#REF!"}},{"$f":"'9  класс '!#REF!","v":{"$error":"#REF!"}}]
[60,{"$f":"'9  класс '!#REF!","v":{"$error":"#REF!"}},{"$f":"'9  класс '!#REF!","v":{"$error":"#REF!"}},{"$f":"'9  класс '!#REF!","v":{"$error":"#REF!"}},{"$f":"'9  класс '!#REF!","v":{"$error":"#REF!"}},{"$f":"'9  класс '!#REF!","v":{"$error":"#REF!"}},{"$f":"'9  класс '!#REF!","v":{"$error":"#REF!"}},{"$f":"'9  класс '!#REF!","v":{"$error":"#REF!"}}]
[61,{"$f":"'9  класс '!#REF!","v":{"$error":"#REF!"}},{"$f":"'9  класс '!#REF!","v":{"$error":"#REF!"}},{"$f":"'9  класс '!#REF!","v":{"$error":"#REF!"}},{"$f":"'9  класс '!#REF!","v":{"$error":"#REF!"}},{"$f":"'9  класс '!#REF!","v":{"$error":"#REF!"}},{"$f":"'9  класс '!#REF!","v":{"$error":"#REF!"}},{"$f":"'9  класс '!#REF!","v":{"$error":"#REF!"}}]
[62,{"$f":"'9  класс '!#REF!","v":{"$error":"#REF!"}},{"$f":"'9  класс '!#REF!","v":{"$error":"#REF!"}},{"$f":"'9  класс '!#REF!","v":{"$error":"#REF!"}},{"$f":"'9  класс '!#REF!","v":{"$error":"#REF!"}},{"$f":"'9  класс '!#REF!","v":{"$error":"#REF!"}},{"$f":"'9  класс '!#REF!","v":{"$error":"#REF!"}},{"$f":"'9  класс '!#REF!","v":{"$error":"#REF!"}}]
[63,{"$f":"'9  класс '!#REF!","v":{"$error":"#REF!"}},{"$f":"'9  класс '!#REF!","v":{"$error":"#REF!"}},{"$f":"'9  класс '!#REF!","v":{"$error":"#REF!"}},{"$f":"'9  класс '!#REF!","v":{"$error":"#REF!"}},{"$f":"'9  класс '!#REF!","v":{"$error":"#REF!"}},{"$f":"'9  класс '!#REF!","v":{"$error":"#REF!"}},{"$f":"'9  класс '!#REF!","v":{"$error":"#REF!"}}]
[64,{"$f":"'9  класс '!#REF!","v":{"$error":"#REF!"}},{"$f":"'9  класс '!#REF!","v":{"$error":"#REF!"}},{"$f":"'9  класс '!#REF!","v":{"$error":"#REF!"}},{"$f":"'9  класс '!#REF!","v":{"$error":"#REF!"}},{"$f":"'9  класс '!#REF!","v":{"$error":"#REF!"}},{"$f":"'9  класс '!#REF!","v":{"$error":"#REF!"}},{"$f":"'9  класс '!#REF!","v":{"$error":"#REF!"}}]
[65,{"$f":"'9  класс '!#REF!","v":{"$error":"#REF!"}},{"$f":"'9  класс '!#REF!","v":{"$error":"#REF!"}},{"$f":"'9  класс '!#REF!","v":{"$error":"#REF!"}},{"$f":"'9  класс '!#REF!","v":{"$error":"#REF!"}},{"$f":"'9  класс '!#REF!","v":{"$error":"#REF!"}},{"$f":"'9  класс '!#REF!","v":{"$error":"#REF!"}},{"$f":"'9  класс '!#REF!","v":{"$error":"#REF!"}}]
[66,{"$f":"'9  класс '!#REF!","v":{"$error":"#REF!"}},{"$f":"'9  класс '!#REF!","v":{"$error":"#REF!"}},{"$f":"'9  класс '!#REF!","v":{"$error":"#REF!"}},{"$f":"'9  класс '!#REF!","v":{"$error":"#REF!"}},{"$f":"'9  класс '!#REF!","v":{"$error":"#REF!"}},{"$f":"'9  класс '!#REF!","v":{"$error":"#REF!"}},{"$f":"'9  класс '!#REF!","v":{"$error":"#REF!"}}]
[67,{"$f":"'9  класс '!#REF!","v":{"$error":"#REF!"}},{"$f":"'9  класс '!#REF!","v":{"$error":"#REF!"}},{"$f":"'9  класс '!#REF!","v":{"$error":"#REF!"}},{"$f":"'9  класс '!#REF!","v":{"$error":"#REF!"}},{"$f":"'9  класс '!#REF!","v":{"$error":"#REF!"}},{"$f":"'9  класс '!#REF!","v":{"$error":"#REF!"}},{"$f":"'9  класс '!#REF!","v":{"$error":"#REF!"}}]
[68,{"$f":"'9  класс '!#REF!","v":{"$error":"#REF!"}},{"$f":"'9  класс '!#REF!","v":{"$error":"#REF!"}},{"$f":"'9  класс '!#REF!","v":{"$error":"#REF!"}},{"$f":"'9  класс '!#REF!","v":{"$error":"#REF!"}},{"$f":"'9  класс '!#REF!","v":{"$error":"#REF!"}},{"$f":"'9  класс '!#REF!","v":{"$error":"#REF!"}},{"$f":"'9  класс '!#REF!","v":{"$error":"#REF!"}}]
[69,{"$f":"'9  класс '!#REF!","v":{"$error":"#REF!"}},{"$f":"'9  класс '!#REF!","v":{"$error":"#REF!"}},{"$f":"'9  класс '!#REF!","v":{"$error":"#REF!"}},{"$f":"'9  класс '!#REF!","v":{"$error":"#REF!"}},{"$f":"'9  класс '!#REF!","v":{"$error":"#REF!"}},{"$f":"'9  класс '!#REF!","v":{"$error":"#REF!"}},{"$f":"'9  класс '!#REF!","v":{"$error":"#REF!"}}]
[70,{"$f":"'9  класс '!#REF!","v":{"$error":"#REF!"}},{"$f":"'9  класс '!#REF!","v":{"$error":"#REF!"}},{"$f":"'9  класс '!#REF!","v":{"$error":"#REF!"}},{"$f":"'9  класс '!#REF!","v":{"$error":"#REF!"}},{"$f":"'9  класс '!#REF!","v":{"$error":"#REF!"}},{"$f":"'9  класс '!#REF!","v":{"$error":"#REF!"}},{"$f":"'9  класс '!#REF!","v":{"$error":"#REF!"}}]
[71,{"$f":"'9  класс '!#REF!","v":{"$error":"#REF!"}},{"$f":"'9  класс '!#REF!","v":{"$error":"#REF!"}},{"$f":"'9  класс '!#REF!","v":{"$error":"#REF!"}},{"$f":"'9  класс '!#REF!","v":{"$error":"#REF!"}},{"$f":"'9  класс '!#REF!","v":{"$error":"#REF!"}},{"$f":"'9  класс '!#REF!","v":{"$error":"#REF!"}},{"$f":"'9  класс '!#REF!","v":{"$error":"#REF!"}}]
[72,{"$f":"'9  класс '!#REF!","v":{"$error":"#REF!"}},{"$f":"'9  класс '!#REF!","v":{"$error":"#REF!"}},{"$f":"'9  класс '!#REF!","v":{"$error":"#REF!"}},{"$f":"'9  класс '!#REF!","v":{"$error":"#REF!"}},{"$f":"'9  класс '!#REF!","v":{"$error":"#REF!"}},{"$f":"'9  класс '!#REF!","v":{"$error":"#REF!"}},{"$f":"'9  класс '!#REF!","v":{"$error":"#REF!"}}]
[73,{"$f":"'9  класс '!#REF!","v":{"$error":"#REF!"}},{"$f":"'9  класс '!#REF!","v":{"$error":"#REF!"}},{"$f":"'9  класс '!#REF!","v":{"$error":"#REF!"}},{"$f":"'9  класс '!#REF!","v":{"$error":"#REF!"}},{"$f":"'9  класс '!#REF!","v":{"$error":"#REF!"}},{"$f":"'9  класс '!#REF!","v":{"$error":"#REF!"}},{"$f":"'9  класс '!#REF!","v":{"$error":"#REF!"}}]
[74,{"$f":"'9  класс '!#REF!","v":{"$error":"#REF!"}},{"$f":"'9  класс '!#REF!","v":{"$error":"#REF!"}},{"$f":"'9  класс '!#REF!","v":{"$error":"#REF!"}},{"$f":"'9  класс '!#REF!","v":{"$error":"#REF!"}},{"$f":"'9  класс '!#REF!","v":{"$error":"#REF!"}},{"$f":"'9  класс '!#REF!","v":{"$error":"#REF!"}},{"$f":"'9  класс '!#REF!","v":{"$error":"#REF!"}}]
[75,{"$f":"'9  класс '!#REF!","v":{"$error":"#REF!"}},{"$f":"'9  класс '!#REF!","v":{"$error":"#REF!"}},{"$f":"'9  класс '!#REF!","v":{"$error":"#REF!"}},{"$f":"'9  класс '!#REF!","v":{"$error":"#REF!"}},{"$f":"'9  класс '!#REF!","v":{"$error":"#REF!"}},{"$f":"'9  класс '!#REF!","v":{"$error":"#REF!"}},{"$f":"'9  класс '!#REF!","v":{"$error":"#REF!"}}]
[76,{"$f":"'9  класс '!#REF!","v":{"$error":"#REF!"}},{"$f":"'9  класс '!#REF!","v":{"$error":"#REF!"}},{"$f":"'9  класс '!#REF!","v":{"$error":"#REF!"}},{"$f":"'9  класс '!#REF!","v":{"$error":"#REF!"}},{"$f":"'9  класс '!#REF!","v":{"$error":"#REF!"}},{"$f":"'9  класс '!#REF!","v":{"$error":"#REF!"}},{"$f":"'9  класс '!#REF!","v":{"$error":"#REF!"}}]
[77,{"$f":"'9  класс '!#REF!","v":{"$error":"#REF!"}},{"$f":"'9  класс '!#REF!","v":{"$error":"#REF!"}},{"$f":"'9  класс '!#REF!","v":{"$error":"#REF!"}},{"$f":"'9  класс '!#REF!","v":{"$error":"#REF!"}},{"$f":"'9  класс '!#REF!","v":{"$error":"#REF!"}},{"$f":"'9  класс '!#REF!","v":{"$error":"#REF!"}},{"$f":"'9  класс '!#REF!","v":{"$error":"#REF!"}}]
[78,{"$f":"'9  класс '!#REF!","v":{"$error":"#REF!"}},{"$f":"'9  класс '!#REF!","v":{"$error":"#REF!"}},{"$f":"'9  класс '!#REF!","v":{"$error":"#REF!"}},{"$f":"'9  класс '!#REF!","v":{"$error":"#REF!"}},{"$f":"'9  класс '!#REF!","v":{"$error":"#REF!"}},{"$f":"'9  класс '!#REF!","v":{"$error":"#REF!"}},{"$f":"'9  класс '!#REF!","v":{"$error":"#REF!"}}]
[79,{"$f":"'9  класс '!#REF!","v":{"$error":"#REF!"}},{"$f":"'9  класс '!#REF!","v":{"$error":"#REF!"}},{"$f":"'9  класс '!#REF!","v":{"$error":"#REF!"}},{"$f":"'9  класс '!#REF!","v":{"$error":"#REF!"}},{"$f":"'9  класс '!#REF!","v":{"$error":"#REF!"}},{"$f":"'9  класс '!#REF!","v":{"$error":"#REF!"}},{"$f":"'9  класс '!#REF!","v":{"$error":"#REF!"}}]
[80,{"$f":"'9  класс '!#REF!","v":{"$error":"#REF!"}},{"$f":"'9  класс '!#REF!","v":{"$error":"#REF!"}},{"$f":"'9  класс '!#REF!","v":{"$error":"#REF!"}},{"$f":"'9  класс '!#REF!","v":{"$error":"#REF!"}},{"$f":"'9  класс '!#REF!","v":{"$error":"#REF!"}},{"$f":"'9  класс '!#REF!","v":{"$error":"#REF!"}},{"$f":"'9  класс '!#REF!","v":{"$error":"#REF!"}}]
[81,{"$f":"'9  класс '!#REF!","v":{"$error":"#REF!"}},{"$f":"'9  класс '!#REF!","v":{"$error":"#REF!"}},{"$f":"'9  класс '!#REF!","v":{"$error":"#REF!"}},{"$f":"'9  класс '!#REF!","v":{"$error":"#REF!"}},{"$f":"'9  класс '!#REF!","v":{"$error":"#REF!"}},{"$f":"'9  класс '!#REF!","v":{"$error":"#REF!"}},{"$f":"'9  класс '!#REF!","v":{"$error":"#REF!"}}]
[82,{"$f":"'9  класс '!#REF!","v":{"$error":"#REF!"}},{"$f":"'9  класс '!#REF!","v":{"$error":"#REF!"}},{"$f":"'9  класс '!#REF!","v":{"$error":"#REF!"}},{"$f":"'9  класс '!#REF!","v":{"$error":"#REF!"}},{"$f":"'9  класс '!#REF!","v":{"$error":"#REF!"}},{"$f":"'9  класс '!#REF!","v":{"$error":"#REF!"}},{"$f":"'9  класс '!#REF!","v":{"$error":"#REF!"}}]
[83,{"$f":"'9  класс '!#REF!","v":{"$error":"#REF!"}},{"$f":"'9  класс '!#REF!","v":{"$error":"#REF!"}},{"$f":"'9  класс '!#REF!","v":{"$error":"#REF!"}},{"$f":"'9  класс '!#REF!","v":{"$error":"#REF!"}},{"$f":"'9  класс '!#REF!","v":{"$error":"#REF!"}},{"$f":"'9  класс '!#REF!","v":{"$error":"#REF!"}},{"$f":"'9  класс '!#REF!","v":{"$error":"#REF!"}}]
[84,{"$f":"'9  класс '!#REF!","v":{"$error":"#REF!"}},{"$f":"'9  класс '!#REF!","v":{"$error":"#REF!"}},{"$f":"'9  класс '!#REF!","v":{"$error":"#REF!"}},{"$f":"'9  класс '!#REF!","v":{"$error":"#REF!"}},{"$f":"'9  класс '!#REF!","v":{"$error":"#REF!"}},{"$f":"'9  класс '!#REF!","v":{"$error":"#REF!"}},{"$f":"'9  класс '!#REF!","v":{"$error":"#REF!"}}]
[85,{"$f":"'9  класс '!#REF!","v":{"$error":"#REF!"}},{"$f":"'9  класс '!#REF!","v":{"$error":"#REF!"}},{"$f":"'9  класс '!#REF!","v":{"$error":"#REF!"}},{"$f":"'9  класс '!#REF!","v":{"$error":"#REF!"}},{"$f":"'9  класс '!#REF!","v":{"$error":"#REF!"}},{"$f":"'9  класс '!#REF!","v":{"$error":"#REF!"}},{"$f":"'9  класс '!#REF!","v":{"$error":"#REF!"}}]
[86,{"$f":"'9  класс '!#REF!","v":{"$error":"#REF!"}},{"$f":"'9  класс '!#REF!","v":{"$error":"#REF!"}},{"$f":"'9  класс '!#REF!","v":{"$error":"#REF!"}},{"$f":"'9  класс '!#REF!","v":{"$error":"#REF!"}},{"$f":"'9  класс '!#REF!","v":{"$error":"#REF!"}},{"$f":"'9  класс '!#REF!","v":{"$error":"#REF!"}},{"$f":"'9  класс '!#REF!","v":{"$error":"#REF!"}}]
[87,{"$f":"'9  класс '!#REF!","v":{"$error":"#REF!"}},{"$f":"'9  класс '!#REF!","v":{"$error":"#REF!"}},{"$f":"'9  класс '!#REF!","v":{"$error":"#REF!"}},{"$f":"'9  класс '!#REF!","v":{"$error":"#REF!"}},{"$f":"'9  класс '!#REF!","v":{"$error":"#REF!"}},{"$f":"'9  класс '!#REF!","v":{"$error":"#REF!"}},{"$f":"'9  класс '!#REF!","v":{"$error":"#REF!"}}]
[88,{"$f":"'9  класс '!#REF!","v":{"$error":"#REF!"}},{"$f":"'9  класс '!#REF!","v":{"$error":"#REF!"}},{"$f":"'9  класс '!#REF!","v":{"$error":"#REF!"}},{"$f":"'9  класс '!#REF!","v":{"$error":"#REF!"}},{"$f":"'9  класс '!#REF!","v":{"$error":"#REF!"}},{"$f":"'9  класс '!#REF!","v":{"$error":"#REF!"}},{"$f":"'9  класс '!#REF!","v":{"$error":"#REF!"}}]
[89,{"$f":"'9  класс '!#REF!","v":{"$error":"#REF!"}},{"$f":"'9  класс '!#REF!","v":{"$error":"#REF!"}},{"$f":"'9  класс '!#REF!","v":{"$error":"#REF!"}},{"$f":"'9  класс '!#REF!","v":{"$error":"#REF!"}},{"$f":"'9  класс '!#REF!","v":{"$error":"#REF!"}},{"$f":"'9  класс '!#REF!","v":{"$error":"#REF!"}},{"$f":"'9  класс '!#REF!","v":{"$error":"#REF!"}}]
[90,{"$f":"'9  класс '!#REF!","v":{"$error":"#REF!"}},{"$f":"'9  класс '!#REF!","v":{"$error":"#REF!"}},{"$f":"'9  класс '!#REF!","v":{"$error":"#REF!"}},{"$f":"'9  класс '!#REF!","v":{"$error":"#REF!"}},{"$f":"'9  класс '!#REF!","v":{"$error":"#REF!"}},{"$f":"'9  класс '!#REF!","v":{"$error":"#REF!"}},{"$f":"'9  класс '!#REF!","v":{"$error":"#REF!"}}]
[91,{"$f":"'9  класс '!#REF!","v":{"$error":"#REF!"}},{"$f":"'9  класс '!#REF!","v":{"$error":"#REF!"}},{"$f":"'9  класс '!#REF!","v":{"$error":"#REF!"}},{"$f":"'9  класс '!#REF!","v":{"$error":"#REF!"}},{"$f":"'9  класс '!#REF!","v":{"$error":"#REF!"}},{"$f":"'9  класс '!#REF!","v":{"$error":"#REF!"}},{"$f":"'9  класс '!#REF!","v":{"$error":"#REF!"}}]
[92,{"$f":"'9  класс '!#REF!","v":{"$error":"#REF!"}},{"$f":"'9  класс '!#REF!","v":{"$error":"#REF!"}},{"$f":"'9  класс '!#REF!","v":{"$error":"#REF!"}},{"$f":"'9  класс '!#REF!","v":{"$error":"#REF!"}},{"$f":"'9  класс '!#REF!","v":{"$error":"#REF!"}},{"$f":"'9  класс '!#REF!","v":{"$error":"#REF!"}},{"$f":"'9  класс '!#REF!","v":{"$error":"#REF!"}}]
[93,{"$f":"'9  класс '!#REF!","v":{"$error":"#REF!"}},{"$f":"'9  класс '!#REF!","v":{"$error":"#REF!"}},{"$f":"'9  класс '!#REF!","v":{"$error":"#REF!"}},{"$f":"'9  класс '!#REF!","v":{"$error":"#REF!"}},{"$f":"'9  класс '!#REF!","v":{"$error":"#REF!"}},{"$f":"'9  класс '!#REF!","v":{"$error":"#REF!"}},{"$f":"'9  класс '!#REF!","v":{"$error":"#REF!"}}]
[94,{"$f":"'9  класс '!#REF!","v":{"$error":"#REF!"}},{"$f":"'9  класс '!#REF!","v":{"$error":"#REF!"}},{"$f":"'9  класс '!#REF!","v":{"$error":"#REF!"}},{"$f":"'9  класс '!#REF!","v":{"$error":"#REF!"}},{"$f":"'9  класс '!#REF!","v":{"$error":"#REF!"}},{"$f":"'9  класс '!#REF!","v":{"$error":"#REF!"}},{"$f":"'9  класс '!#REF!","v":{"$error":"#REF!"}}]
[95,{"$f":"'9  класс '!#REF!","v":{"$error":"#REF!"}},{"$f":"'9  класс '!#REF!","v":{"$error":"#REF!"}},{"$f":"'9  класс '!#REF!","v":{"$error":"#REF!"}},{"$f":"'9  класс '!#REF!","v":{"$error":"#REF!"}},{"$f":"'9  класс '!#REF!","v":{"$error":"#REF!"}},{"$f":"'9  класс '!#REF!","v":{"$error":"#REF!"}},{"$f":"'9  класс '!#REF!","v":{"$error":"#REF!"}}]
[96,{"$f":"'9  класс '!#REF!","v":{"$error":"#REF!"}},{"$f":"'9  класс '!#REF!","v":{"$error":"#REF!"}},{"$f":"'9  класс '!#REF!","v":{"$error":"#REF!"}},{"$f":"'9  класс '!#REF!","v":{"$error":"#REF!"}},{"$f":"'9  класс '!#REF!","v":{"$error":"#REF!"}},{"$f":"'9  класс '!#REF!","v":{"$error":"#REF!"}},{"$f":"'9  класс '!#REF!","v":{"$error":"#REF!"}}]
[97,{"$f":"'9  класс '!#REF!","v":{"$error":"#REF!"}},{"$f":"'9  класс '!#REF!","v":{"$error":"#REF!"}},{"$f":"'9  класс '!#REF!","v":{"$error":"#REF!"}},{"$f":"'9  класс '!#REF!","v":{"$error":"#REF!"}},{"$f":"'9  класс '!#REF!","v":{"$error":"#REF!"}},{"$f":"'9  класс '!#REF!","v":{"$error":"#REF!"}},{"$f":"'9  класс '!#REF!","v":{"$error":"#REF!"}}]
[98,{"$f":"'9  класс '!#REF!","v":{"$error":"#REF!"}},{"$f":"'9  класс '!#REF!","v":{"$error":"#REF!"}},{"$f":"'9  класс '!#REF!","v":{"$error":"#REF!"}},{"$f":"'9  класс '!#REF!","v":{"$error":"#REF!"}},{"$f":"'9  класс '!#REF!","v":{"$error":"#REF!"}},{"$f":"'9  класс '!#REF!","v":{"$error":"#REF!"}},{"$f":"'9  класс '!#REF!","v":{"$error":"#REF!"}}]
[99,{"$f":"'9  класс '!B4","v":"Фазлиев"},{"$f":"'9  класс '!C4","v":"Раиль"},{"$f":"'9  класс '!D4","v":"Айратович"},{"$f":"'9  класс '!E4","v":9},{"$f":"'9  класс '!F4","v":"Нижнекамский"},{"$f":"'9  класс '!G4","v":"МБОУ \"Гимназия №25\" Нижнекамского муниципального района РТ"},{"$f":"'9  класс '!H4","v":250}]
[100,{"$f":"'9  класс '!#REF!","v":{"$error":"#REF!"}},{"$f":"'9  класс '!#REF!","v":{"$error":"#REF!"}},{"$f":"'9  класс '!#REF!","v":{"$error":"#REF!"}},{"$f":"'9  класс '!#REF!","v":{"$error":"#REF!"}},{"$f":"'9  класс '!#REF!","v":{"$error":"#REF!"}},{"$f":"'9  класс '!#REF!","v":{"$error":"#REF!"}},{"$f":"'9  класс '!#REF!","v":{"$error":"#REF!"}}]
[101,{"$f":"'9  класс '!#REF!","v":{"$error":"#REF!"}},{"$f":"'9  класс '!#REF!","v":{"$error":"#REF!"}},{"$f":"'9  класс '!#REF!","v":{"$error":"#REF!"}},{"$f":"'9  класс '!#REF!","v":{"$error":"#REF!"}},{"$f":"'9  класс '!#REF!","v":{"$error":"#REF!"}},{"$f":"'9  класс '!#REF!","v":{"$error":"#REF!"}},{"$f":"'9  класс '!#REF!","v":{"$error":"#REF!"}}]
[102,{"$f":"'9  класс '!#REF!","v":{"$error":"#REF!"}},{"$f":"'9  класс '!#REF!","v":{"$error":"#REF!"}},{"$f":"'9  класс '!#REF!","v":{"$error":"#REF!"}},{"$f":"'9  класс '!#REF!","v":{"$error":"#REF!"}},{"$f":"'9  класс '!#REF!","v":{"$error":"#REF!"}},{"$f":"'9  класс '!#REF!","v":{"$error":"#REF!"}},{"$f":"'9  класс '!#REF!","v":{"$error":"#REF!"}}]
[103,{"$f":"'9  класс '!#REF!","v":{"$error":"#REF!"}},{"$f":"'9  класс '!#REF!","v":{"$error":"#REF!"}},{"$f":"'9  класс '!#REF!","v":{"$error":"#REF!"}},{"$f":"'9  класс '!#REF!","v":{"$error":"#REF!"}},{"$f":"'9  класс '!#REF!","v":{"$error":"#REF!"}},{"$f":"'9  класс '!#REF!","v":{"$error":"#REF!"}},{"$f":"'9  класс '!#REF!","v":{"$error":"#REF!"}}]
[104,{"$f":"'9  класс '!#REF!","v":{"$error":"#REF!"}},{"$f":"'9  класс '!#REF!","v":{"$error":"#REF!"}},{"$f":"'9  класс '!#REF!","v":{"$error":"#REF!"}},{"$f":"'9  класс '!#REF!","v":{"$error":"#REF!"}},{"$f":"'9  класс '!#REF!","v":{"$error":"#REF!"}},{"$f":"'9  класс '!#REF!","v":{"$error":"#REF!"}},{"$f":"'9  класс '!#REF!","v":{"$error":"#REF!"}}]
[105,{"$f":"'9  класс '!#REF!","v":{"$error":"#REF!"}},{"$f":"'9  класс '!#REF!","v":{"$error":"#REF!"}},{"$f":"'9  класс '!#REF!","v":{"$error":"#REF!"}},{"$f":"'9  класс '!#REF!","v":{"$error":"#REF!"}},{"$f":"'9  класс '!#REF!","v":{"$error":"#REF!"}},{"$f":"'9  класс '!#REF!","v":{"$error":"#REF!"}},{"$f":"'9  класс '!#REF!","v":{"$error":"#REF!"}}]
[106,{"$f":"'9  класс '!#REF!","v":{"$error":"#REF!"}},{"$f":"'9  класс '!#REF!","v":{"$error":"#REF!"}},{"$f":"'9  класс '!#REF!","v":{"$error":"#REF!"}},{"$f":"'9  класс '!#REF!","v":{"$error":"#REF!"}},{"$f":"'9  класс '!#REF!","v":{"$error":"#REF!"}},{"$f":"'9  класс '!#REF!","v":{"$error":"#REF!"}},{"$f":"'9  класс '!#REF!","v":{"$error":"#REF!"}}]
[107,{"$f":"'9  класс '!#REF!","v":{"$error":"#REF!"}},{"$f":"'9  класс '!#REF!","v":{"$error":"#REF!"}},{"$f":"'9  класс '!#REF!","v":{"$error":"#REF!"}},{"$f":"'9  класс '!#REF!","v":{"$error":"#REF!"}},{"$f":"'9  класс '!#REF!","v":{"$error":"#REF!"}},{"$f":"'9  класс '!#REF!","v":{"$error":"#REF!"}},{"$f":"'9  класс '!#REF!","v":{"$error":"#REF!"}}]
[108,{"$f":"#REF!","v":{"$error":"#REF!"}},{"$f":"#REF!","v":{"$error":"#REF!"}},{"$f":"#REF!","v":{"$error":"#REF!"}},{"$f":"#REF!","v":{"$error":"#REF!"}},{"$f":"#REF!","v":{"$error":"#REF!"}},{"$f":"#REF!","v":{"$error":"#REF!"}},{"$f":"#REF!","v":{"$error":"#REF!"}}]
[109,{"$f":"#REF!","v":{"$error":"#REF!"}},{"$f":"#REF!","v":{"$error":"#REF!"}},{"$f":"#REF!","v":{"$error":"#REF!"}},{"$f":"#REF!","v":{"$error":"#REF!"}},{"$f":"#REF!","v":{"$error":"#REF!"}},{"$f":"#REF!","v":{"$error":"#REF!"}},{"$f":"#REF!","v":{"$error":"#REF!"}}]
[110,{"$f":"#REF!","v":{"$error":"#REF!"}},{"$f":"#REF!","v":{"$error":"#REF!"}},{"$f":"#REF!","v":{"$error":"#REF!"}},{"$f":"#REF!","v":{"$error":"#REF!"}},{"$f":"#REF!","v":{"$error":"#REF!"}},{"$f":"#REF!","v":{"$error":"#REF!"}},{"$f":"#REF!","v":{"$error":"#REF!"}}]
[111,{"$f":"#REF!","v":{"$error":"#REF!"}},{"$f":"#REF!","v":{"$error":"#REF!"}},{"$f":"#REF!","v":{"$error":"#REF!"}},{"$f":"#REF!","v":{"$error":"#REF!"}},{"$f":"#REF!","v":{"$error":"#REF!"}},{"$f":"#REF!","v":{"$error":"#REF!"}},{"$f":"#REF!","v":{"$error":"#REF!"}}]
[112,{"$f":"#REF!","v":{"$error":"#REF!"}},{"$f":"#REF!","v":{"$error":"#REF!"}},{"$f":"#REF!","v":{"$error":"#REF!"}},{"$f":"#REF!","v":{"$error":"#REF!"}},{"$f":"#REF!","v":{"$error":"#REF!"}},{"$f":"#REF!","v":{"$error":"#REF!"}},{"$f":"#REF!","v":{"$error":"#REF!"}}]
[113,{"$f":"#REF!","v":{"$error":"#REF!"}},{"$f":"#REF!","v":{"$error":"#REF!"}},{"$f":"#REF!","v":{"$error":"#REF!"}},{"$f":"#REF!","v":{"$error":"#REF!"}},{"$f":"#REF!","v":{"$error":"#REF!"}},{"$f":"#REF!","v":{"$error":"#REF!"}},{"$f":"#REF!","v":{"$error":"#REF!"}}]
[114,{"$f":"#REF!","v":{"$error":"#REF!"}},{"$f":"#REF!","v":{"$error":"#REF!"}},{"$f":"#REF!","v":{"$error":"#REF!"}},{"$f":"#REF!","v":{"$error":"#REF!"}},{"$f":"#REF!","v":{"$error":"#REF!"}},{"$f":"#REF!","v":{"$error":"#REF!"}},{"$f":"#REF!","v":{"$error":"#REF!"}}]
[115,{"$f":"#REF!","v":{"$error":"#REF!"}},{"$f":"#REF!","v":{"$error":"#REF!"}},{"$f":"#REF!","v":{"$error":"#REF!"}},{"$f":"#REF!","v":{"$error":"#REF!"}},{"$f":"#REF!","v":{"$error":"#REF!"}},{"$f":"#REF!","v":{"$error":"#REF!"}},{"$f":"#REF!","v":{"$error":"#REF!"}}]
[116,{"$f":"#REF!","v":{"$error":"#REF!"}},{"$f":"#REF!","v":{"$error":"#REF!"}},{"$f":"#REF!","v":{"$error":"#REF!"}},{"$f":"#REF!","v":{"$error":"#REF!"}},{"$f":"#REF!","v":{"$error":"#REF!"}},{"$f":"#REF!","v":{"$error":"#REF!"}},{"$f":"#REF!","v":{"$error":"#REF!"}}]
[117,{"$f":"'9  класс '!#REF!","v":{"$error":"#REF!"}},{"$f":"'9  класс '!#REF!","v":{"$error":"#REF!"}},{"$f":"'9  класс '!#REF!","v":{"$error":"#REF!"}},{"$f":"'9  класс '!#REF!","v":{"$error":"#REF!"}},{"$f":"'9  класс '!#REF!","v":{"$error":"#REF!"}},{"$f":"'9  класс '!#REF!","v":{"$error":"#REF!"}},{"$f":"'9  класс '!#REF!","v":{"$error":"#REF!"}}]
[118,{"$f":"'9  класс '!#REF!","v":{"$error":"#REF!"}},{"$f":"'9  класс '!#REF!","v":{"$error":"#REF!"}},{"$f":"'9  класс '!#REF!","v":{"$error":"#REF!"}},{"$f":"'9  класс '!#REF!","v":{"$error":"#REF!"}},{"$f":"'9  класс '!#REF!","v":{"$error":"#REF!"}},{"$f":"'9  класс '!#REF!","v":{"$error":"#REF!"}},{"$f":"'9  класс '!#REF!","v":{"$error":"#REF!"}}]
[119,{"$f":"'10 класс '!#REF!","v":{"$error":"#REF!"}},{"$f":"'10 класс '!#REF!","v":{"$error":"#REF!"}},{"$f":"'10 класс '!#REF!","v":{"$error":"#REF!"}},{"$f":"'10 класс '!#REF!","v":{"$error":"#REF!"}},{"$f":"'10 класс '!#REF!","v":{"$error":"#REF!"}},{"$f":"'10 класс '!#REF!","v":{"$error":"#REF!"}},{"$f":"'10 класс '!#REF!","v":{"$error":"#REF!"}}]
[120,{"$f":"'10 класс '!#REF!","v":{"$error":"#REF!"}},{"$f":"'10 класс '!#REF!","v":{"$error":"#REF!"}},{"$f":"'10 класс '!#REF!","v":{"$error":"#REF!"}},{"$f":"'10 класс '!#REF!","v":{"$error":"#REF!"}},{"$f":"'10 класс '!#REF!","v":{"$error":"#REF!"}},{"$f":"'10 класс '!#REF!","v":{"$error":"#REF!"}},{"$f":"'10 класс '!#REF!","v":{"$error":"#REF!"}}]
[121,{"$f":"'10 класс '!#REF!","v":{"$error":"#REF!"}},{"$f":"'10 класс '!#REF!","v":{"$error":"#REF!"}},{"$f":"'10 класс '!#REF!","v":{"$error":"#REF!"}},{"$f":"'10 класс '!#REF!","v":{"$error":"#REF!"}},{"$f":"'10 класс '!#REF!","v":{"$error":"#REF!"}},{"$f":"'10 класс '!#REF!","v":{"$error":"#REF!"}},{"$f":"'10 класс '!#REF!","v":{"$error":"#REF!"}}]
[122,{"$f":"'10 класс '!#REF!","v":{"$error":"#REF!"}},{"$f":"'10 класс '!#REF!","v":{"$error":"#REF!"}},{"$f":"'10 класс '!#REF!","v":{"$error":"#REF!"}},{"$f":"'10 класс '!#REF!","v":{"$error":"#REF!"}},{"$f":"'10 класс '!#REF!","v":{"$error":"#REF!"}},{"$f":"'10 класс '!#REF!","v":{"$error":"#REF!"}},{"$f":"'10 класс '!#REF!","v":{"$error":"#REF!"}}]
[123,{"$f":"'10 класс '!#REF!","v":{"$error":"#REF!"}},{"$f":"'10 класс '!#REF!","v":{"$error":"#REF!"}},{"$f":"'10 класс '!#REF!","v":{"$error":"#REF!"}},{"$f":"'10 класс '!#REF!","v":{"$error":"#REF!"}},{"$f":"'10 класс '!#REF!","v":{"$error":"#REF!"}},{"$f":"'10 класс '!#REF!","v":{"$error":"#REF!"}},{"$f":"'10 класс '!#REF!","v":{"$error":"#REF!"}}]
[124,{"$f":"'10 класс '!#REF!","v":{"$error":"#REF!"}},{"$f":"'10 класс '!#REF!","v":{"$error":"#REF!"}},{"$f":"'10 класс '!#REF!","v":{"$error":"#REF!"}},{"$f":"'10 класс '!#REF!","v":{"$error":"#REF!"}},{"$f":"'10 класс '!#REF!","v":{"$error":"#REF!"}},{"$f":"'10 класс '!#REF!","v":{"$error":"#REF!"}},{"$f":"'10 класс '!#REF!","v":{"$error":"#REF!"}}]
[125,{"$f":"'10 класс '!#REF!","v":{"$error":"#REF!"}},{"$f":"'10 класс '!#REF!","v":{"$error":"#REF!"}},{"$f":"'10 класс '!#REF!","v":{"$error":"#REF!"}},{"$f":"'10 класс '!#REF!","v":{"$error":"#REF!"}},{"$f":"'10 класс '!#REF!","v":{"$error":"#REF!"}},{"$f":"'10 класс '!#REF!","v":{"$error":"#REF!"}},{"$f":"'10 класс '!#REF!","v":{"$error":"#REF!"}}]
[126,{"$f":"'10 класс '!#REF!","v":{"$error":"#REF!"}},{"$f":"'10 класс '!#REF!","v":{"$error":"#REF!"}},{"$f":"'10 класс '!#REF!","v":{"$error":"#REF!"}},{"$f":"'10 класс '!#REF!","v":{"$error":"#REF!"}},{"$f":"'10 класс '!#REF!","v":{"$error":"#REF!"}},{"$f":"'10 класс '!#REF!","v":{"$error":"#REF!"}},{"$f":"'10 класс '!#REF!","v":{"$error":"#REF!"}}]
[127,{"$f":"'10 класс '!#REF!","v":{"$error":"#REF!"}},{"$f":"'10 класс '!#REF!","v":{"$error":"#REF!"}},{"$f":"'10 класс '!#REF!","v":{"$error":"#REF!"}},{"$f":"'10 класс '!#REF!","v":{"$error":"#REF!"}},{"$f":"'10 класс '!#REF!","v":{"$error":"#REF!"}},{"$f":"'10 класс '!#REF!","v":{"$error":"#REF!"}},{"$f":"'10 класс '!#REF!","v":{"$error":"#REF!"}}]
[128,{"$f":"'10 класс '!#REF!","v":{"$error":"#REF!"}},{"$f":"'10 класс '!#REF!","v":{"$error":"#REF!"}},{"$f":"'10 класс '!#REF!","v":{"$error":"#REF!"}},{"$f":"'10 класс '!#REF!","v":{"$error":"#REF!"}},{"$f":"'10 класс '!#REF!","v":{"$error":"#REF!"}},{"$f":"'10 класс '!#REF!","v":{"$error":"#REF!"}},{"$f":"'10 класс '!#REF!","v":{"$error":"#REF!"}}]
[129,{"$f":"'10 класс '!#REF!","v":{"$error":"#REF!"}},{"$f":"'10 класс '!#REF!","v":{"$error":"#REF!"}},{"$f":"'10 класс '!#REF!","v":{"$error":"#REF!"}},{"$f":"'10 класс '!#REF!","v":{"$error":"#REF!"}},{"$f":"'10 класс '!#REF!","v":{"$error":"#REF!"}},{"$f":"'10 класс '!#REF!","v":{"$error":"#REF!"}},{"$f":"'10 класс '!#REF!","v":{"$error":"#REF!"}}]
[130,{"$f":"'10 класс '!#REF!","v":{"$error":"#REF!"}},{"$f":"'10 класс '!#REF!","v":{"$error":"#REF!"}},{"$f":"'10 класс '!#REF!","v":{"$error":"#REF!"}},{"$f":"'10 класс '!#REF!","v":{"$error":"#REF!"}},{"$f":"'10 класс '!#REF!","v":{"$error":"#REF!"}},{"$f":"'10 класс '!#REF!","v":{"$error":"#REF!"}},{"$f":"'10 класс '!#REF!","v":{"$error":"#REF!"}}]
[131,{"$f":"'10 класс '!#REF!","v":{"$error":"#REF!"}},{"$f":"'10 класс '!#REF!","v":{"$error":"#REF!"}},{"$f":"'10 класс '!#REF!","v":{"$error":"#REF!"}},{"$f":"'10 класс '!#REF!","v":{"$error":"#REF!"}},{"$f":"'10 класс '!#REF!","v":{"$error":"#REF!"}},{"$f":"'10 класс '!#REF!","v":{"$error":"#REF!"}},{"$f":"'10 класс '!#REF!","v":{"$error":"#REF!"}}]
[132,{"$f":"'10 класс '!#REF!","v":{"$error":"#REF!"}},{"$f":"'10 класс '!#REF!","v":{"$error":"#REF!"}},{"$f":"'10 класс '!#REF!","v":{"$error":"#REF!"}},{"$f":"'10 класс '!#REF!","v":{"$error":"#REF!"}},{"$f":"'10 класс '!#REF!","v":{"$error":"#REF!"}},{"$f":"'10 класс '!#REF!","v":{"$error":"#REF!"}},{"$f":"'10 класс '!#REF!","v":{"$error":"#REF!"}}]
[133,{"$f":"'10 класс '!#REF!","v":{"$error":"#REF!"}},{"$f":"'10 класс '!#REF!","v":{"$error":"#REF!"}},{"$f":"'10 класс '!#REF!","v":{"$error":"#REF!"}},{"$f":"'10 класс '!#REF!","v":{"$error":"#REF!"}},{"$f":"'10 класс '!#REF!","v":{"$error":"#REF!"}},{"$f":"'10 класс '!#REF!","v":{"$error":"#REF!"}},{"$f":"'10 класс '!#REF!","v":{"$error":"#REF!"}}]
[134,{"$f":"'10 класс '!#REF!","v":{"$error":"#REF!"}},{"$f":"'10 класс '!#REF!","v":{"$error":"#REF!"}},{"$f":"'10 класс '!#REF!","v":{"$error":"#REF!"}},{"$f":"'10 класс '!#REF!","v":{"$error":"#REF!"}},{"$f":"'10 класс '!#REF!","v":{"$error":"#REF!"}},{"$f":"'10 класс '!#REF!","v":{"$error":"#REF!"}},{"$f":"'10 класс '!#REF!","v":{"$error":"#REF!"}}]
[135,{"$f":"'10 класс '!#REF!","v":{"$error":"#REF!"}},{"$f":"'10 класс '!#REF!","v":{"$error":"#REF!"}},{"$f":"'10 класс '!#REF!","v":{"$error":"#REF!"}},{"$f":"'10 класс '!#REF!","v":{"$error":"#REF!"}},{"$f":"'10 класс '!#REF!","v":{"$error":"#REF!"}},{"$f":"'10 класс '!#REF!","v":{"$error":"#REF!"}},{"$f":"'10 класс '!#REF!","v":{"$error":"#REF!"}}]
[136,{"$f":"'10 класс '!#REF!","v":{"$error":"#REF!"}},{"$f":"'10 класс '!#REF!","v":{"$error":"#REF!"}},{"$f":"'10 класс '!#REF!","v":{"$error":"#REF!"}},{"$f":"'10 класс '!#REF!","v":{"$error":"#REF!"}},{"$f":"'10 класс '!#REF!","v":{"$error":"#REF!"}},{"$f":"'10 класс '!#REF!","v":{"$error":"#REF!"}},{"$f":"'10 класс '!#REF!","v":{"$error":"#REF!"}}]
[137,{"$f":"'10 класс '!#REF!","v":{"$error":"#REF!"}},{"$f":"'10 класс '!#REF!","v":{"$error":"#REF!"}},{"$f":"'10 класс '!#REF!","v":{"$error":"#REF!"}},{"$f":"'10 класс '!#REF!","v":{"$error":"#REF!"}},{"$f":"'10 класс '!#REF!","v":{"$error":"#REF!"}},{"$f":"'10 класс '!#REF!","v":{"$error":"#REF!"}},{"$f":"'10 класс '!#REF!","v":{"$error":"#REF!"}}]
[138,{"$f":"'10 класс '!#REF!","v":{"$error":"#REF!"}},{"$f":"'10 класс '!#REF!","v":{"$error":"#REF!"}},{"$f":"'10 класс '!#REF!","v":{"$error":"#REF!"}},{"$f":"'10 класс '!#REF!","v":{"$error":"#REF!"}},{"$f":"'10 класс '!#REF!","v":{"$error":"#REF!"}},{"$f":"'10 класс '!#REF!","v":{"$error":"#REF!"}},{"$f":"'10 класс '!#REF!","v":{"$error":"#REF!"}}]
[139,{"$f":"'10 класс '!#REF!","v":{"$error":"#REF!"}},{"$f":"'10 класс '!#REF!","v":{"$error":"#REF!"}},{"$f":"'10 класс '!#REF!","v":{"$error":"#REF!"}},{"$f":"'10 класс '!#REF!","v":{"$error":"#REF!"}},{"$f":"'10 класс '!#REF!","v":{"$error":"#REF!"}},{"$f":"'10 класс '!#REF!","v":{"$error":"#REF!"}},{"$f":"'10 класс '!#REF!","v":{"$error":"#REF!"}}]
[140,{"$f":"'10 класс '!#REF!","v":{"$error":"#REF!"}},{"$f":"'10 класс '!#REF!","v":{"$error":"#REF!"}},{"$f":"'10 класс '!#REF!","v":{"$error":"#REF!"}},{"$f":"'10 класс '!#REF!","v":{"$error":"#REF!"}},{"$f":"'10 класс '!#REF!","v":{"$error":"#REF!"}},{"$f":"'10 класс '!#REF!","v":{"$error":"#REF!"}},{"$f":"'10 класс '!#REF!","v":{"$error":"#REF!"}}]
[141,{"$f":"'10 класс '!#REF!","v":{"$error":"#REF!"}},{"$f":"'10 класс '!#REF!","v":{"$error":"#REF!"}},{"$f":"'10 класс '!#REF!","v":{"$error":"#REF!"}},{"$f":"'10 класс '!#REF!","v":{"$error":"#REF!"}},{"$f":"'10 класс '!#REF!","v":{"$error":"#REF!"}},{"$f":"'10 класс '!#REF!","v":{"$error":"#REF!"}},{"$f":"'10 класс '!#REF!","v":{"$error":"#REF!"}}]
[142,{"$f":"'10 класс '!#REF!","v":{"$error":"#REF!"}},{"$f":"'10 класс '!#REF!","v":{"$error":"#REF!"}},{"$f":"'10 класс '!#REF!","v":{"$error":"#REF!"}},{"$f":"'10 класс '!#REF!","v":{"$error":"#REF!"}},{"$f":"'10 класс '!#REF!","v":{"$error":"#REF!"}},{"$f":"'10 класс '!#REF!","v":{"$error":"#REF!"}},{"$f":"'10 класс '!#REF!","v":{"$error":"#REF!"}}]
[143,{"$f":"'10 класс '!#REF!","v":{"$error":"#REF!"}},{"$f":"'10 класс '!#REF!","v":{"$error":"#REF!"}},{"$f":"'10 класс '!#REF!","v":{"$error":"#REF!"}},{"$f":"'10 класс '!#REF!","v":{"$error":"#REF!"}},{"$f":"'10 класс '!#REF!","v":{"$error":"#REF!"}},{"$f":"'10 класс '!#REF!","v":{"$error":"#REF!"}},{"$f":"'10 класс '!#REF!","v":{"$error":"#REF!"}}]
[144,{"$f":"'10 класс '!#REF!","v":{"$error":"#REF!"}},{"$f":"'10 класс '!#REF!","v":{"$error":"#REF!"}},{"$f":"'10 класс '!#REF!","v":{"$error":"#REF!"}},{"$f":"'10 класс '!#REF!","v":{"$error":"#REF!"}},{"$f":"'10 класс '!#REF!","v":{"$error":"#REF!"}},{"$f":"'10 класс '!#REF!","v":{"$error":"#REF!"}},{"$f":"'10 класс '!#REF!","v":{"$error":"#REF!"}}]
[145,{"$f":"'10 класс '!#REF!","v":{"$error":"#REF!"}},{"$f":"'10 класс '!#REF!","v":{"$error":"#REF!"}},{"$f":"'10 класс '!#REF!","v":{"$error":"#REF!"}},{"$f":"'10 класс '!#REF!","v":{"$error":"#REF!"}},{"$f":"'10 класс '!#REF!","v":{"$error":"#REF!"}},{"$f":"'10 класс '!#REF!","v":{"$error":"#REF!"}},{"$f":"'10 класс '!#REF!","v":{"$error":"#REF!"}}]
[146,{"$f":"'10 класс '!#REF!","v":{"$error":"#REF!"}},{"$f":"'10 класс '!#REF!","v":{"$error":"#REF!"}},{"$f":"'10 класс '!#REF!","v":{"$error":"#REF!"}},{"$f":"'10 класс '!#REF!","v":{"$error":"#REF!"}},{"$f":"'10 класс '!#REF!","v":{"$error":"#REF!"}},{"$f":"'10 класс '!#REF!","v":{"$error":"#REF!"}},{"$f":"'10 класс '!#REF!","v":{"$error":"#REF!"}}]
[147,{"$f":"'10 класс '!#REF!","v":{"$error":"#REF!"}},{"$f":"'10 класс '!#REF!","v":{"$error":"#REF!"}},{"$f":"'10 класс '!#REF!","v":{"$error":"#REF!"}},{"$f":"'10 класс '!#REF!","v":{"$error":"#REF!"}},{"$f":"'10 класс '!#REF!","v":{"$error":"#REF!"}},{"$f":"'10 класс '!#REF!","v":{"$error":"#REF!"}},{"$f":"'10 класс '!#REF!","v":{"$error":"#REF!"}}]
[148,{"$f":"'10 класс '!#REF!","v":{"$error":"#REF!"}},{"$f":"'10 класс '!#REF!","v":{"$error":"#REF!"}},{"$f":"'10 класс '!#REF!","v":{"$error":"#REF!"}},{"$f":"'10 класс '!#REF!","v":{"$error":"#REF!"}},{"$f":"'10 класс '!#REF!","v":{"$error":"#REF!"}},{"$f":"'10 класс '!#REF!","v":{"$error":"#REF!"}},{"$f":"'10 класс '!#REF!","v":{"$error":"#REF!"}}]
[149,{"$f":"'10 класс '!#REF!","v":{"$error":"#REF!"}},{"$f":"'10 класс '!#REF!","v":{"$error":"#REF!"}},{"$f":"'10 класс '!#REF!","v":{"$error":"#REF!"}},{"$f":"'10 класс '!#REF!","v":{"$error":"#REF!"}},{"$f":"'10 класс '!#REF!","v":{"$error":"#REF!"}},{"$f":"'10 класс '!#REF!","v":{"$error":"#REF!"}},{"$f":"'10 класс '!#REF!","v":{"$error":"#REF!"}}]
[150,{"$f":"'10 класс '!#REF!","v":{"$error":"#REF!"}},{"$f":"'10 класс '!#REF!","v":{"$error":"#REF!"}},{"$f":"'10 класс '!#REF!","v":{"$error":"#REF!"}},{"$f":"'10 класс '!#REF!","v":{"$error":"#REF!"}},{"$f":"'10 класс '!#REF!","v":{"$error":"#REF!"}},{"$f":"'10 класс '!#REF!","v":{"$error":"#REF!"}},{"$f":"'10 класс '!#REF!","v":{"$error":"#REF!"}}]
[151,{"$f":"'10 класс '!#REF!","v":{"$error":"#REF!"}},{"$f":"'10 класс '!#REF!","v":{"$error":"#REF!"}},{"$f":"'10 класс '!#REF!","v":{"$error":"#REF!"}},{"$f":"'10 класс '!#REF!","v":{"$error":"#REF!"}},{"$f":"'10 класс '!#REF!","v":{"$error":"#REF!"}},{"$f":"'10 класс '!#REF!","v":{"$error":"#REF!"}},{"$f":"'10 класс '!#REF!","v":{"$error":"#REF!"}}]
[152,{"$f":"'10 класс '!#REF!","v":{"$error":"#REF!"}},{"$f":"'10 класс '!#REF!","v":{"$error":"#REF!"}},{"$f":"'10 класс '!#REF!","v":{"$error":"#REF!"}},{"$f":"'10 класс '!#REF!","v":{"$error":"#REF!"}},{"$f":"'10 класс '!#REF!","v":{"$error":"#REF!"}},{"$f":"'10 класс '!#REF!","v":{"$error":"#REF!"}},{"$f":"'10 класс '!#REF!","v":{"$error":"#REF!"}}]
[153,{"$f":"'10 класс '!#REF!","v":{"$error":"#REF!"}},{"$f":"'10 класс '!#REF!","v":{"$error":"#REF!"}},{"$f":"'10 класс '!#REF!","v":{"$error":"#REF!"}},{"$f":"'10 класс '!#REF!","v":{"$error":"#REF!"}},{"$f":"'10 класс '!#REF!","v":{"$error":"#REF!"}},{"$f":"'10 класс '!#REF!","v":{"$error":"#REF!"}},{"$f":"'10 класс '!#REF!","v":{"$error":"#REF!"}}]
[154,{"$f":"'10 класс '!B4","v":"Шамсемухаметов"},{"$f":"'10 класс '!C4","v":"Радмир"},{"$f":"'10 класс '!D4","v":"Ранасович"},{"$f":"'10 класс '!E4","v":10},{"$f":"'10 класс '!F4","v":"Нижнекамский"},{"$f":"'10 класс '!G4","v":"МБОУ \"Лицей-интернат №24\" Нижнекамского муниципального района РТ"},{"$f":"'10 класс '!H4","v":300}]
[155,{"$f":"'10 класс '!#REF!","v":{"$error":"#REF!"}},{"$f":"'10 класс '!#REF!","v":{"$error":"#REF!"}},{"$f":"'10 класс '!#REF!","v":{"$error":"#REF!"}},{"$f":"'10 класс '!#REF!","v":{"$error":"#REF!"}},{"$f":"'10 класс '!#REF!","v":{"$error":"#REF!"}},{"$f":"'10 класс '!#REF!","v":{"$error":"#REF!"}},{"$f":"'10 класс '!#REF!","v":{"$error":"#REF!"}}]
[156,{"$f":"'10 класс '!#REF!","v":{"$error":"#REF!"}},{"$f":"'10 класс '!#REF!","v":{"$error":"#REF!"}},{"$f":"'10 класс '!#REF!","v":{"$error":"#REF!"}},{"$f":"'10 класс '!#REF!","v":{"$error":"#REF!"}},{"$f":"'10 класс '!#REF!","v":{"$error":"#REF!"}},{"$f":"'10 класс '!#REF!","v":{"$error":"#REF!"}},{"$f":"'10 класс '!#REF!","v":{"$error":"#REF!"}}]
[157,{"$f":"'10 класс '!#REF!","v":{"$error":"#REF!"}},{"$f":"'10 класс '!#REF!","v":{"$error":"#REF!"}},{"$f":"'10 класс '!#REF!","v":{"$error":"#REF!"}},{"$f":"'10 класс '!#REF!","v":{"$error":"#REF!"}},{"$f":"'10 класс '!#REF!","v":{"$error":"#REF!"}},{"$f":"'10 класс '!#REF!","v":{"$error":"#REF!"}},{"$f":"'10 класс '!#REF!","v":{"$error":"#REF!"}}]
[158,{"$f":"'10 класс '!#REF!","v":{"$error":"#REF!"}},{"$f":"'10 класс '!#REF!","v":{"$error":"#REF!"}},{"$f":"'10 класс '!#REF!","v":{"$error":"#REF!"}},{"$f":"'10 класс '!#REF!","v":{"$error":"#REF!"}},{"$f":"'10 класс '!#REF!","v":{"$error":"#REF!"}},{"$f":"'10 класс '!#REF!","v":{"$error":"#REF!"}},{"$f":"'10 класс '!#REF!","v":{"$error":"#REF!"}}]
[159,{"$f":"'10 класс '!#REF!","v":{"$error":"#REF!"}},{"$f":"'10 класс '!#REF!","v":{"$error":"#REF!"}},{"$f":"'10 класс '!#REF!","v":{"$error":"#REF!"}},{"$f":"'10 класс '!#REF!","v":{"$error":"#REF!"}},{"$f":"'10 класс '!#REF!","v":{"$error":"#REF!"}},{"$f":"'10 класс '!#REF!","v":{"$error":"#REF!"}},{"$f":"'10 класс '!#REF!","v":{"$error":"#REF!"}}]
[160,{"$f":"'10 класс '!#REF!","v":{"$error":"#REF!"}},{"$f":"'10 класс '!#REF!","v":{"$error":"#REF!"}},{"$f":"'10 класс '!#REF!","v":{"$error":"#REF!"}},{"$f":"'10 класс '!#REF!","v":{"$error":"#REF!"}},{"$f":"'10 класс '!#REF!","v":{"$error":"#REF!"}},{"$f":"'10 класс '!#REF!","v":{"$error":"#REF!"}},{"$f":"'10 класс '!#REF!","v":{"$error":"#REF!"}}]
[161,{"$f":"'10 класс '!#REF!","v":{"$error":"#REF!"}},{"$f":"'10 класс '!#REF!","v":{"$error":"#REF!"}},{"$f":"'10 класс '!#REF!","v":{"$error":"#REF!"}},{"$f":"'10 класс '!#REF!","v":{"$error":"#REF!"}},{"$f":"'10 класс '!#REF!","v":{"$error":"#REF!"}},{"$f":"'10 класс '!#REF!","v":{"$error":"#REF!"}},{"$f":"'10 класс '!#REF!","v":{"$error":"#REF!"}}]
[162,{"$f":"'10 класс '!#REF!","v":{"$error":"#REF!"}},{"$f":"'10 класс '!#REF!","v":{"$error":"#REF!"}},{"$f":"'10 класс '!#REF!","v":{"$error":"#REF!"}},{"$f":"'10 класс '!#REF!","v":{"$error":"#REF!"}},{"$f":"'10 класс '!#REF!","v":{"$error":"#REF!"}},{"$f":"'10 класс '!#REF!","v":{"$error":"#REF!"}},{"$f":"'10 класс '!#REF!","v":{"$error":"#REF!"}}]
[163,{"$f":"'10 класс '!#REF!","v":{"$error":"#REF!"}},{"$f":"'10 класс '!#REF!","v":{"$error":"#REF!"}},{"$f":"'10 класс '!#REF!","v":{"$error":"#REF!"}},{"$f":"'10 класс '!#REF!","v":{"$error":"#REF!"}},{"$f":"'10 класс '!#REF!","v":{"$error":"#REF!"}},{"$f":"'10 класс '!#REF!","v":{"$error":"#REF!"}},{"$f":"'10 класс '!#REF!","v":{"$error":"#REF!"}}]
[164,{"$f":"'10 класс '!B5","v":"Мухаметзянов"},{"$f":"'10 класс '!C5","v":"Ильнур"},{"$f":"'10 класс '!D5","v":"Радикович"},{"$f":"'10 класс '!E5","v":10},{"$f":"'10 класс '!F5","v":"Нижнекамский"},{"$f":"'10 класс '!G5","v":"МБОУ \"Лицей-интернат №24\" Нижнекамского муниципального района РТ"},{"$f":"'10 класс '!H5","v":265}]
[165,{"$f":"'10 класс '!#REF!","v":{"$error":"#REF!"}},{"$f":"'10 класс '!#REF!","v":{"$error":"#REF!"}},{"$f":"'10 класс '!#REF!","v":{"$error":"#REF!"}},{"$f":"'10 класс '!#REF!","v":{"$error":"#REF!"}},{"$f":"'10 класс '!#REF!","v":{"$error":"#REF!"}},{"$f":"'10 класс '!#REF!","v":{"$error":"#REF!"}},{"$f":"'10 класс '!#REF!","v":{"$error":"#REF!"}}]
[166,{"$f":"'10 класс '!#REF!","v":{"$error":"#REF!"}},{"$f":"'10 класс '!#REF!","v":{"$error":"#REF!"}},{"$f":"'10 класс '!#REF!","v":{"$error":"#REF!"}},{"$f":"'10 класс '!#REF!","v":{"$error":"#REF!"}},{"$f":"'10 класс '!#REF!","v":{"$error":"#REF!"}},{"$f":"'10 класс '!#REF!","v":{"$error":"#REF!"}},{"$f":"'10 класс '!#REF!","v":{"$error":"#REF!"}}]
[167,{"$f":"'10 класс '!#REF!","v":{"$error":"#REF!"}},{"$f":"'10 класс '!#REF!","v":{"$error":"#REF!"}},{"$f":"'10 класс '!#REF!","v":{"$error":"#REF!"}},{"$f":"'10 класс '!#REF!","v":{"$error":"#REF!"}},{"$f":"'10 класс '!#REF!","v":{"$error":"#REF!"}},{"$f":"'10 класс '!#REF!","v":{"$error":"#REF!"}},{"$f":"'10 класс '!#REF!","v":{"$error":"#REF!"}}]
[168,{"$f":"'10 класс '!#REF!","v":{"$error":"#REF!"}},{"$f":"'10 класс '!#REF!","v":{"$error":"#REF!"}},{"$f":"'10 класс '!#REF!","v":{"$error":"#REF!"}},{"$f":"'10 класс '!#REF!","v":{"$error":"#REF!"}},{"$f":"'10 класс '!#REF!","v":{"$error":"#REF!"}},{"$f":"'10 класс '!#REF!","v":{"$error":"#REF!"}},{"$f":"'10 класс '!#REF!","v":{"$error":"#REF!"}}]
[169,{"$f":"'10 класс '!#REF!","v":{"$error":"#REF!"}},{"$f":"'10 класс '!#REF!","v":{"$error":"#REF!"}},{"$f":"'10 класс '!#REF!","v":{"$error":"#REF!"}},{"$f":"'10 класс '!#REF!","v":{"$error":"#REF!"}},{"$f":"'10 класс '!#REF!","v":{"$error":"#REF!"}},{"$f":"'10 класс '!#REF!","v":{"$error":"#REF!"}},{"$f":"'10 класс '!#REF!","v":{"$error":"#REF!"}}]
[170,{"$f":"'10 класс '!#REF!","v":{"$error":"#REF!"}},{"$f":"'10 класс '!#REF!","v":{"$error":"#REF!"}},{"$f":"'10 класс '!#REF!","v":{"$error":"#REF!"}},{"$f":"'10 класс '!#REF!","v":{"$error":"#REF!"}},{"$f":"'10 класс '!#REF!","v":{"$error":"#REF!"}},{"$f":"'10 класс '!#REF!","v":{"$error":"#REF!"}},{"$f":"'10 класс '!#REF!","v":{"$error":"#REF!"}}]
[171,{"$f":"'10 класс '!#REF!","v":{"$error":"#REF!"}},{"$f":"'10 класс '!#REF!","v":{"$error":"#REF!"}},{"$f":"'10 класс '!#REF!","v":{"$error":"#REF!"}},{"$f":"'10 класс '!#REF!","v":{"$error":"#REF!"}},{"$f":"'10 класс '!#REF!","v":{"$error":"#REF!"}},{"$f":"'10 класс '!#REF!","v":{"$error":"#REF!"}},{"$f":"'10 класс '!#REF!","v":{"$error":"#REF!"}}]
[172,{"$f":"'10 класс '!#REF!","v":{"$error":"#REF!"}},{"$f":"'10 класс '!#REF!","v":{"$error":"#REF!"}},{"$f":"'10 класс '!#REF!","v":{"$error":"#REF!"}},{"$f":"'10 класс '!#REF!","v":{"$error":"#REF!"}},{"$f":"'10 класс '!#REF!","v":{"$error":"#REF!"}},{"$f":"'10 класс '!#REF!","v":{"$error":"#REF!"}},{"$f":"'10 класс '!#REF!","v":{"$error":"#REF!"}}]
[173,{"$f":"'10 класс '!#REF!","v":{"$error":"#REF!"}},{"$f":"'10 класс '!#REF!","v":{"$error":"#REF!"}},{"$f":"'10 класс '!#REF!","v":{"$error":"#REF!"}},{"$f":"'10 класс '!#REF!","v":{"$error":"#REF!"}},{"$f":"'10 класс '!#REF!","v":{"$error":"#REF!"}},{"$f":"'10 класс '!#REF!","v":{"$error":"#REF!"}},{"$f":"'10 класс '!#REF!","v":{"$error":"#REF!"}}]
[174,{"$f":"#REF!","v":{"$error":"#REF!"}},{"$f":"#REF!","v":{"$error":"#REF!"}},{"$f":"#REF!","v":{"$error":"#REF!"}},{"$f":"#REF!","v":{"$error":"#REF!"}},{"$f":"#REF!","v":{"$error":"#REF!"}},{"$f":"#REF!","v":{"$error":"#REF!"}},{"$f":"#REF!","v":{"$error":"#REF!"}}]
[175,{"$f":"'10 класс '!#REF!","v":{"$error":"#REF!"}},{"$f":"'10 класс '!#REF!","v":{"$error":"#REF!"}},{"$f":"'10 класс '!#REF!","v":{"$error":"#REF!"}},{"$f":"'10 класс '!#REF!","v":{"$error":"#REF!"}},{"$f":"'10 класс '!#REF!","v":{"$error":"#REF!"}},{"$f":"'10 класс '!#REF!","v":{"$error":"#REF!"}},{"$f":"'10 класс '!#REF!","v":{"$error":"#REF!"}}]
[176,{"$f":"'10 класс '!#REF!","v":{"$error":"#REF!"}},{"$f":"'10 класс '!#REF!","v":{"$error":"#REF!"}},{"$f":"'10 класс '!#REF!","v":{"$error":"#REF!"}},{"$f":"'10 класс '!#REF!","v":{"$error":"#REF!"}},{"$f":"'10 класс '!#REF!","v":{"$error":"#REF!"}},{"$f":"'10 класс '!#REF!","v":{"$error":"#REF!"}},{"$f":"'10 класс '!#REF!","v":{"$error":"#REF!"}}]
[177,{"$f":"'11 класс '!#REF!","v":{"$error":"#REF!"}},{"$f":"'11 класс '!#REF!","v":{"$error":"#REF!"}},{"$f":"'11 класс '!#REF!","v":{"$error":"#REF!"}},{"$f":"'11 класс '!#REF!","v":{"$error":"#REF!"}},{"$f":"'11 класс '!#REF!","v":{"$error":"#REF!"}},{"$f":"'11 класс '!#REF!","v":{"$error":"#REF!"}},{"$f":"'11 класс '!#REF!","v":{"$error":"#REF!"}}]
[178,{"$f":"'11 класс '!#REF!","v":{"$error":"#REF!"}},{"$f":"'11 класс '!#REF!","v":{"$error":"#REF!"}},{"$f":"'11 класс '!#REF!","v":{"$error":"#REF!"}},{"$f":"'11 класс '!#REF!","v":{"$error":"#REF!"}},{"$f":"'11 класс '!#REF!","v":{"$error":"#REF!"}},{"$f":"'11 класс '!#REF!","v":{"$error":"#REF!"}},{"$f":"'11 класс '!#REF!","v":{"$error":"#REF!"}}]
[179,{"$f":"'11 класс '!#REF!","v":{"$error":"#REF!"}},{"$f":"'11 класс '!#REF!","v":{"$error":"#REF!"}},{"$f":"'11 класс '!#REF!","v":{"$error":"#REF!"}},{"$f":"'11 класс '!#REF!","v":{"$error":"#REF!"}},{"$f":"'11 класс '!#REF!","v":{"$error":"#REF!"}},{"$f":"'11 класс '!#REF!","v":{"$error":"#REF!"}},{"$f":"'11 класс '!#REF!","v":{"$error":"#REF!"}}]
[180,{"$f":"'11 класс '!#REF!","v":{"$error":"#REF!"}},{"$f":"'11 класс '!#REF!","v":{"$error":"#REF!"}},{"$f":"'11 класс '!#REF!","v":{"$error":"#REF!"}},{"$f":"'11 класс '!#REF!","v":{"$error":"#REF!"}},{"$f":"'11 класс '!#REF!","v":{"$error":"#REF!"}},{"$f":"'11 класс '!#REF!","v":{"$error":"#REF!"}},{"$f":"'11 класс '!#REF!","v":{"$error":"#REF!"}}]
[181,{"$f":"'11 класс '!#REF!","v":{"$error":"#REF!"}},{"$f":"'11 класс '!#REF!","v":{"$error":"#REF!"}},{"$f":"'11 класс '!#REF!","v":{"$error":"#REF!"}},{"$f":"'11 класс '!#REF!","v":{"$error":"#REF!"}},{"$f":"'11 класс '!#REF!","v":{"$error":"#REF!"}},{"$f":"'11 класс '!#REF!","v":{"$error":"#REF!"}},{"$f":"'11 класс '!#REF!","v":{"$error":"#REF!"}}]
[182,{"$f":"'11 класс '!#REF!","v":{"$error":"#REF!"}},{"$f":"'11 класс '!#REF!","v":{"$error":"#REF!"}},{"$f":"'11 класс '!#REF!","v":{"$error":"#REF!"}},{"$f":"'11 класс '!#REF!","v":{"$error":"#REF!"}},{"$f":"'11 класс '!#REF!","v":{"$error":"#REF!"}},{"$f":"'11 класс '!#REF!","v":{"$error":"#REF!"}},{"$f":"'11 класс '!#REF!","v":{"$error":"#REF!"}}]
[183,{"$f":"'11 класс '!#REF!","v":{"$error":"#REF!"}},{"$f":"'11 класс '!#REF!","v":{"$error":"#REF!"}},{"$f":"'11 класс '!#REF!","v":{"$error":"#REF!"}},{"$f":"'11 класс '!#REF!","v":{"$error":"#REF!"}},{"$f":"'11 класс '!#REF!","v":{"$error":"#REF!"}},{"$f":"'11 класс '!#REF!","v":{"$error":"#REF!"}},{"$f":"'11 класс '!#REF!","v":{"$error":"#REF!"}}]
[184,{"$f":"'11 класс '!#REF!","v":{"$error":"#REF!"}},{"$f":"'11 класс '!#REF!","v":{"$error":"#REF!"}},{"$f":"'11 класс '!#REF!","v":{"$error":"#REF!"}},{"$f":"'11 класс '!#REF!","v":{"$error":"#REF!"}},{"$f":"'11 класс '!#REF!","v":{"$error":"#REF!"}},{"$f":"'11 класс '!#REF!","v":{"$error":"#REF!"}},{"$f":"'11 класс '!#REF!","v":{"$error":"#REF!"}}]
[185,{"$f":"'11 класс '!#REF!","v":{"$error":"#REF!"}},{"$f":"'11 класс '!#REF!","v":{"$error":"#REF!"}},{"$f":"'11 класс '!#REF!","v":{"$error":"#REF!"}},{"$f":"'11 класс '!#REF!","v":{"$error":"#REF!"}},{"$f":"'11 класс '!#REF!","v":{"$error":"#REF!"}},{"$f":"'11 класс '!#REF!","v":{"$error":"#REF!"}},{"$f":"'11 класс '!#REF!","v":{"$error":"#REF!"}}]
[186,{"$f":"'11 класс '!#REF!","v":{"$error":"#REF!"}},{"$f":"'11 класс '!#REF!","v":{"$error":"#REF!"}},{"$f":"'11 класс '!#REF!","v":{"$error":"#REF!"}},{"$f":"'11 класс '!#REF!","v":{"$error":"#REF!"}},{"$f":"'11 класс '!#REF!","v":{"$error":"#REF!"}},{"$f":"'11 класс '!#REF!","v":{"$error":"#REF!"}},{"$f":"'11 класс '!#REF!","v":{"$error":"#REF!"}}]
[187,{"$f":"'11 класс '!B4","v":"Шакиров"},{"$f":"'11 класс '!C4","v":"Владислав"},{"$f":"'11 класс '!D4","v":"Фидаилевич"},{"$f":"'11 класс '!E4","v":11},{"$f":"'11 класс '!F4","v":"Нижнекамский"},{"$f":"'11 класс '!G4","v":"МБОУ \"Лицей-интернат №24\" Нижнекамского муниципального района РТ"},{"$f":"'11 класс '!H4","v":340}]
[188,{"$f":"'11 класс '!#REF!","v":{"$error":"#REF!"}},{"$f":"'11 класс '!#REF!","v":{"$error":"#REF!"}},{"$f":"'11 класс '!#REF!","v":{"$error":"#REF!"}},{"$f":"'11 класс '!#REF!","v":{"$error":"#REF!"}},{"$f":"'11 класс '!#REF!","v":{"$error":"#REF!"}},{"$f":"'11 класс '!#REF!","v":{"$error":"#REF!"}},{"$f":"'11 класс '!#REF!","v":{"$error":"#REF!"}}]
[189,{"$f":"'11 класс '!#REF!","v":{"$error":"#REF!"}},{"$f":"'11 класс '!#REF!","v":{"$error":"#REF!"}},{"$f":"'11 класс '!#REF!","v":{"$error":"#REF!"}},{"$f":"'11 класс '!#REF!","v":{"$error":"#REF!"}},{"$f":"'11 класс '!#REF!","v":{"$error":"#REF!"}},{"$f":"'11 класс '!#REF!","v":{"$error":"#REF!"}},{"$f":"'11 класс '!#REF!","v":{"$error":"#REF!"}}]
[190,{"$f":"'11 класс '!#REF!","v":{"$error":"#REF!"}},{"$f":"'11 класс '!#REF!","v":{"$error":"#REF!"}},{"$f":"'11 класс '!#REF!","v":{"$error":"#REF!"}},{"$f":"'11 класс '!#REF!","v":{"$error":"#REF!"}},{"$f":"'11 класс '!#REF!","v":{"$error":"#REF!"}},{"$f":"'11 класс '!#REF!","v":{"$error":"#REF!"}},{"$f":"'11 класс '!#REF!","v":{"$error":"#REF!"}}]
[191,{"$f":"'11 класс '!#REF!","v":{"$error":"#REF!"}},{"$f":"'11 класс '!#REF!","v":{"$error":"#REF!"}},{"$f":"'11 класс '!#REF!","v":{"$error":"#REF!"}},{"$f":"'11 класс '!#REF!","v":{"$error":"#REF!"}},{"$f":"'11 класс '!#REF!","v":{"$error":"#REF!"}},{"$f":"'11 класс '!#REF!","v":{"$error":"#REF!"}},{"$f":"'11 класс '!#REF!","v":{"$error":"#REF!"}}]
[192,{"$f":"'11 класс '!#REF!","v":{"$error":"#REF!"}},{"$f":"'11 класс '!#REF!","v":{"$error":"#REF!"}},{"$f":"'11 класс '!#REF!","v":{"$error":"#REF!"}},{"$f":"'11 класс '!#REF!","v":{"$error":"#REF!"}},{"$f":"'11 класс '!#REF!","v":{"$error":"#REF!"}},{"$f":"'11 класс '!#REF!","v":{"$error":"#REF!"}},{"$f":"'11 класс '!#REF!","v":{"$error":"#REF!"}}]
[193,{"$f":"'11 класс '!#REF!","v":{"$error":"#REF!"}},{"$f":"'11 класс '!#REF!","v":{"$error":"#REF!"}},{"$f":"'11 класс '!#REF!","v":{"$error":"#REF!"}},{"$f":"'11 класс '!#REF!","v":{"$error":"#REF!"}},{"$f":"'11 класс '!#REF!","v":{"$error":"#REF!"}},{"$f":"'11 класс '!#REF!","v":{"$error":"#REF!"}},{"$f":"'11 класс '!#REF!","v":{"$error":"#REF!"}}]
[194,{"$f":"'11 класс '!#REF!","v":{"$error":"#REF!"}},{"$f":"'11 класс '!#REF!","v":{"$error":"#REF!"}},{"$f":"'11 класс '!#REF!","v":{"$error":"#REF!"}},{"$f":"'11 класс '!#REF!","v":{"$error":"#REF!"}},{"$f":"'11 класс '!#REF!","v":{"$error":"#REF!"}},{"$f":"'11 класс '!#REF!","v":{"$error":"#REF!"}},{"$f":"'11 класс '!#REF!","v":{"$error":"#REF!"}}]
[195,{"$f":"'11 класс '!#REF!","v":{"$error":"#REF!"}},{"$f":"'11 класс '!#REF!","v":{"$error":"#REF!"}},{"$f":"'11 класс '!#REF!","v":{"$error":"#REF!"}},{"$f":"'11 класс '!#REF!","v":{"$error":"#REF!"}},{"$f":"'11 класс '!#REF!","v":{"$error":"#REF!"}},{"$f":"'11 класс '!#REF!","v":{"$error":"#REF!"}},{"$f":"'11 класс '!#REF!","v":{"$error":"#REF!"}}]
[196,{"$f":"'11 класс '!#REF!","v":{"$error":"#REF!"}},{"$f":"'11 класс '!#REF!","v":{"$error":"#REF!"}},{"$f":"'11 класс '!#REF!","v":{"$error":"#REF!"}},{"$f":"'11 класс '!#REF!","v":{"$error":"#REF!"}},{"$f":"'11 класс '!#REF!","v":{"$error":"#REF!"}},{"$f":"'11 класс '!#REF!","v":{"$error":"#REF!"}},{"$f":"'11 класс '!#REF!","v":{"$error":"#REF!"}}]
[197,{"$f":"'11 класс '!#REF!","v":{"$error":"#REF!"}},{"$f":"'11 класс '!#REF!","v":{"$error":"#REF!"}},{"$f":"'11 класс '!#REF!","v":{"$error":"#REF!"}},{"$f":"'11 класс '!#REF!","v":{"$error":"#REF!"}},{"$f":"'11 класс '!#REF!","v":{"$error":"#REF!"}},{"$f":"'11 класс '!#REF!","v":{"$error":"#REF!"}},{"$f":"'11 класс '!#REF!","v":{"$error":"#REF!"}}]
[198,{"$f":"'11 класс '!#REF!","v":{"$error":"#REF!"}},{"$f":"'11 класс '!#REF!","v":{"$error":"#REF!"}},{"$f":"'11 класс '!#REF!","v":{"$error":"#REF!"}},{"$f":"'11 класс '!#REF!","v":{"$error":"#REF!"}},{"$f":"'11 класс '!#REF!","v":{"$error":"#REF!"}},{"$f":"'11 класс '!#REF!","v":{"$error":"#REF!"}},{"$f":"'11 класс '!#REF!","v":{"$error":"#REF!"}}]
[199,{"$f":"'11 класс '!#REF!","v":{"$error":"#REF!"}},{"$f":"'11 класс '!#REF!","v":{"$error":"#REF!"}},{"$f":"'11 класс '!#REF!","v":{"$error":"#REF!"}},{"$f":"'11 класс '!#REF!","v":{"$error":"#REF!"}},{"$f":"'11 класс '!#REF!","v":{"$error":"#REF!"}},{"$f":"'11 класс '!#REF!","v":{"$error":"#REF!"}},{"$f":"'11 класс '!#REF!","v":{"$error":"#REF!"}}]
[200,{"$f":"'11 класс '!#REF!","v":{"$error":"#REF!"}},{"$f":"'11 класс '!#REF!","v":{"$error":"#REF!"}},{"$f":"'11 класс '!#REF!","v":{"$error":"#REF!"}},{"$f":"'11 класс '!#REF!","v":{"$error":"#REF!"}},{"$f":"'11 класс '!#REF!","v":{"$error":"#REF!"}},{"$f":"'11 класс '!#REF!","v":{"$error":"#REF!"}},{"$f":"'11 класс '!#REF!","v":{"$error":"#REF!"}}]
[201,{"$f":"'11 класс '!#REF!","v":{"$error":"#REF!"}},{"$f":"'11 класс '!#REF!","v":{"$error":"#REF!"}},{"$f":"'11 класс '!#REF!","v":{"$error":"#REF!"}},{"$f":"'11 класс '!#REF!","v":{"$error":"#REF!"}},{"$f":"'11 класс '!#REF!","v":{"$error":"#REF!"}},{"$f":"'11 класс '!#REF!","v":{"$error":"#REF!"}},{"$f":"'11 класс '!#REF!","v":{"$error":"#REF!"}}]
[202,{"$f":"'11 класс '!#REF!","v":{"$error":"#REF!"}},{"$f":"'11 класс '!#REF!","v":{"$error":"#REF!"}},{"$f":"'11 класс '!#REF!","v":{"$error":"#REF!"}},{"$f":"'11 класс '!#REF!","v":{"$error":"#REF!"}},{"$f":"'11 класс '!#REF!","v":{"$error":"#REF!"}},{"$f":"'11 класс '!#REF!","v":{"$error":"#REF!"}},{"$f":"'11 класс '!#REF!","v":{"$error":"#REF!"}}]
[203,{"$f":"'11 класс '!#REF!","v":{"$error":"#REF!"}},{"$f":"'11 класс '!#REF!","v":{"$error":"#REF!"}},{"$f":"'11 класс '!#REF!","v":{"$error":"#REF!"}},{"$f":"'11 класс '!#REF!","v":{"$error":"#REF!"}},{"$f":"'11 класс '!#REF!","v":{"$error":"#REF!"}},{"$f":"'11 класс '!#REF!","v":{"$error":"#REF!"}},{"$f":"'11 класс '!#REF!","v":{"$error":"#REF!"}}]
[204,{"$f":"'11 класс '!#REF!","v":{"$error":"#REF!"}},{"$f":"'11 класс '!#REF!","v":{"$error":"#REF!"}},{"$f":"'11 класс '!#REF!","v":{"$error":"#REF!"}},{"$f":"'11 класс '!#REF!","v":{"$error":"#REF!"}},{"$f":"'11 класс '!#REF!","v":{"$error":"#REF!"}},{"$f":"'11 класс '!#REF!","v":{"$error":"#REF!"}},{"$f":"'11 класс '!#REF!","v":{"$error":"#REF!"}}]
[205,{"$f":"'11 класс '!#REF!","v":{"$error":"#REF!"}},{"$f":"'11 класс '!#REF!","v":{"$error":"#REF!"}},{"$f":"'11 класс '!#REF!","v":{"$error":"#REF!"}},{"$f":"'11 класс '!#REF!","v":{"$error":"#REF!"}},{"$f":"'11 класс '!#REF!","v":{"$error":"#REF!"}},{"$f":"'11 класс '!#REF!","v":{"$error":"#REF!"}},{"$f":"'11 класс '!#REF!","v":{"$error":"#REF!"}}]
[206,{"$f":"'11 класс '!#REF!","v":{"$error":"#REF!"}},{"$f":"'11 класс '!#REF!","v":{"$error":"#REF!"}},{"$f":"'11 класс '!#REF!","v":{"$error":"#REF!"}},{"$f":"'11 класс '!#REF!","v":{"$error":"#REF!"}},{"$f":"'11 класс '!#REF!","v":{"$error":"#REF!"}},{"$f":"'11 класс '!#REF!","v":{"$error":"#REF!"}},{"$f":"'11 класс '!#REF!","v":{"$error":"#REF!"}}]
[207,{"$f":"'11 класс '!#REF!","v":{"$error":"#REF!"}},{"$f":"'11 класс '!#REF!","v":{"$error":"#REF!"}},{"$f":"'11 класс '!#REF!","v":{"$error":"#REF!"}},{"$f":"'11 класс '!#REF!","v":{"$error":"#REF!"}},{"$f":"'11 класс '!#REF!","v":{"$error":"#REF!"}},{"$f":"'11 класс '!#REF!","v":{"$error":"#REF!"}},{"$f":"'11 класс '!#REF!","v":{"$error":"#REF!"}}]
[208,{"$f":"'11 класс '!B5","v":"Ситдиков"},{"$f":"'11 класс '!C5","v":"Камиль"},{"$f":"'11 класс '!D5","v":"Робертович"},{"$f":"'11 класс '!E5","v":11},{"$f":"'11 класс '!F5","v":"Нижнекамский"},{"$f":"'11 класс '!G5","v":"МБОУ \"СОШ №36\" Нижнекамского муниципального района РТ"},{"$f":"'11 класс '!H5","v":310}]
[209,{"$f":"'11 класс '!#REF!","v":{"$error":"#REF!"}},{"$f":"'11 класс '!#REF!","v":{"$error":"#REF!"}},{"$f":"'11 класс '!#REF!","v":{"$error":"#REF!"}},{"$f":"'11 класс '!#REF!","v":{"$error":"#REF!"}},{"$f":"'11 класс '!#REF!","v":{"$error":"#REF!"}},{"$f":"'11 класс '!#REF!","v":{"$error":"#REF!"}},{"$f":"'11 класс '!#REF!","v":{"$error":"#REF!"}}]
[210,{"$f":"'11 класс '!#REF!","v":{"$error":"#REF!"}},{"$f":"'11 класс '!#REF!","v":{"$error":"#REF!"}},{"$f":"'11 класс '!#REF!","v":{"$error":"#REF!"}},{"$f":"'11 класс '!#REF!","v":{"$error":"#REF!"}},{"$f":"'11 класс '!#REF!","v":{"$error":"#REF!"}},{"$f":"'11 класс '!#REF!","v":{"$error":"#REF!"}},{"$f":"'11 класс '!#REF!","v":{"$error":"#REF!"}}]
[211,{"$f":"'11 класс '!#REF!","v":{"$error":"#REF!"}},{"$f":"'11 класс '!#REF!","v":{"$error":"#REF!"}},{"$f":"'11 класс '!#REF!","v":{"$error":"#REF!"}},{"$f":"'11 класс '!#REF!","v":{"$error":"#REF!"}},{"$f":"'11 класс '!#REF!","v":{"$error":"#REF!"}},{"$f":"'11 класс '!#REF!","v":{"$error":"#REF!"}},{"$f":"'11 класс '!#REF!","v":{"$error":"#REF!"}}]
[212,{"$f":"'11 класс '!#REF!","v":{"$error":"#REF!"}},{"$f":"'11 класс '!#REF!","v":{"$error":"#REF!"}},{"$f":"'11 класс '!#REF!","v":{"$error":"#REF!"}},{"$f":"'11 класс '!#REF!","v":{"$error":"#REF!"}},{"$f":"'11 класс '!#REF!","v":{"$error":"#REF!"}},{"$f":"'11 класс '!#REF!","v":{"$error":"#REF!"}},{"$f":"'11 класс '!#REF!","v":{"$error":"#REF!"}}]
[213,{"$f":"'11 класс '!#REF!","v":{"$error":"#REF!"}},{"$f":"'11 класс '!#REF!","v":{"$error":"#REF!"}},{"$f":"'11 класс '!#REF!","v":{"$error":"#REF!"}},{"$f":"'11 класс '!#REF!","v":{"$error":"#REF!"}},{"$f":"'11 класс '!#REF!","v":{"$error":"#REF!"}},{"$f":"'11 класс '!#REF!","v":{"$error":"#REF!"}},{"$f":"'11 класс '!#REF!","v":{"$error":"#REF!"}}]
[214,{"$f":"'11 класс '!#REF!","v":{"$error":"#REF!"}},{"$f":"'11 класс '!#REF!","v":{"$error":"#REF!"}},{"$f":"'11 класс '!#REF!","v":{"$error":"#REF!"}},{"$f":"'11 класс '!#REF!","v":{"$error":"#REF!"}},{"$f":"'11 класс '!#REF!","v":{"$error":"#REF!"}},{"$f":"'11 класс '!#REF!","v":{"$error":"#REF!"}},{"$f":"'11 класс '!#REF!","v":{"$error":"#REF!"}}]
[215,{"$f":"'11 класс '!#REF!","v":{"$error":"#REF!"}},{"$f":"'11 класс '!#REF!","v":{"$error":"#REF!"}},{"$f":"'11 класс '!#REF!","v":{"$error":"#REF!"}},{"$f":"'11 класс '!#REF!","v":{"$error":"#REF!"}},{"$f":"'11 класс '!#REF!","v":{"$error":"#REF!"}},{"$f":"'11 класс '!#REF!","v":{"$error":"#REF!"}},{"$f":"'11 класс '!#REF!","v":{"$error":"#REF!"}}]
[216,{"$f":"'11 класс '!#REF!","v":{"$error":"#REF!"}},{"$f":"'11 класс '!#REF!","v":{"$error":"#REF!"}},{"$f":"'11 класс '!#REF!","v":{"$error":"#REF!"}},{"$f":"'11 класс '!#REF!","v":{"$error":"#REF!"}},{"$f":"'11 класс '!#REF!","v":{"$error":"#REF!"}},{"$f":"'11 класс '!#REF!","v":{"$error":"#REF!"}},{"$f":"'11 класс '!#REF!","v":{"$error":"#REF!"}}]
[217,{"$f":"'11 класс '!#REF!","v":{"$error":"#REF!"}},{"$f":"'11 класс '!#REF!","v":{"$error":"#REF!"}},{"$f":"'11 класс '!#REF!","v":{"$error":"#REF!"}},{"$f":"'11 класс '!#REF!","v":{"$error":"#REF!"}},{"$f":"'11 класс '!#REF!","v":{"$error":"#REF!"}},{"$f":"'11 класс '!#REF!","v":{"$error":"#REF!"}},{"$f":"'11 класс '!#REF!","v":{"$error":"#REF!"}}]
[218,{"$f":"'11 класс '!#REF!","v":{"$error":"#REF!"}},{"$f":"'11 класс '!#REF!","v":{"$error":"#REF!"}},{"$f":"'11 класс '!#REF!","v":{"$error":"#REF!"}},{"$f":"'11 класс '!#REF!","v":{"$error":"#REF!"}},{"$f":"'11 класс '!#REF!","v":{"$error":"#REF!"}},{"$f":"'11 класс '!#REF!","v":{"$error":"#REF!"}},{"$f":"'11 класс '!#REF!","v":{"$error":"#REF!"}}]
[219,{"$f":"'11 класс '!#REF!","v":{"$error":"#REF!"}},{"$f":"'11 класс '!#REF!","v":{"$error":"#REF!"}},{"$f":"'11 класс '!#REF!","v":{"$error":"#REF!"}},{"$f":"'11 класс '!#REF!","v":{"$error":"#REF!"}},{"$f":"'11 класс '!#REF!","v":{"$error":"#REF!"}},{"$f":"'11 класс '!#REF!","v":{"$error":"#REF!"}},{"$f":"'11 класс '!#REF!","v":{"$error":"#REF!"}}]
[220,{"$f":"'11 класс '!#REF!","v":{"$error":"#REF!"}},{"$f":"'11 класс '!#REF!","v":{"$error":"#REF!"}},{"$f":"'11 класс '!#REF!","v":{"$error":"#REF!"}},{"$f":"'11 класс '!#REF!","v":{"$error":"#REF!"}},{"$f":"'11 класс '!#REF!","v":{"$error":"#REF!"}},{"$f":"'11 класс '!#REF!","v":{"$error":"#REF!"}},{"$f":"'11 класс '!#REF!","v":{"$error":"#REF!"}}]
[221,{"$f":"'11 класс '!#REF!","v":{"$error":"#REF!"}},{"$f":"'11 класс '!#REF!","v":{"$error":"#REF!"}},{"$f":"'11 класс '!#REF!","v":{"$error":"#REF!"}},{"$f":"'11 класс '!#REF!","v":{"$error":"#REF!"}},{"$f":"'11 класс '!#REF!","v":{"$error":"#REF!"}},{"$f":"'11 класс '!#REF!","v":{"$error":"#REF!"}},{"$f":"'11 класс '!#REF!","v":{"$error":"#REF!"}}]
[222,{"$f":"'11 класс '!#REF!","v":{"$error":"#REF!"}},{"$f":"'11 класс '!#REF!","v":{"$error":"#REF!"}},{"$f":"'11 класс '!#REF!","v":{"$error":"#REF!"}},{"$f":"'11 класс '!#REF!","v":{"$error":"#REF!"}},{"$f":"'11 класс '!#REF!","v":{"$error":"#REF!"}},{"$f":"'11 класс '!#REF!","v":{"$error":"#REF!"}},{"$f":"'11 класс '!#REF!","v":{"$error":"#REF!"}}]
[223,{"$f":"'11 класс '!#REF!","v":{"$error":"#REF!"}},{"$f":"'11 класс '!#REF!","v":{"$error":"#REF!"}},{"$f":"'11 класс '!#REF!","v":{"$error":"#REF!"}},{"$f":"'11 класс '!#REF!","v":{"$error":"#REF!"}},{"$f":"'11 класс '!#REF!","v":{"$error":"#REF!"}},{"$f":"'11 класс '!#REF!","v":{"$error":"#REF!"}},{"$f":"'11 класс '!#REF!","v":{"$error":"#REF!"}}]
[224,{"$f":"'11 класс '!#REF!","v":{"$error":"#REF!"}},{"$f":"'11 класс '!#REF!","v":{"$error":"#REF!"}},{"$f":"'11 класс '!#REF!","v":{"$error":"#REF!"}},{"$f":"'11 класс '!#REF!","v":{"$error":"#REF!"}},{"$f":"'11 класс '!#REF!","v":{"$error":"#REF!"}},{"$f":"'11 класс '!#REF!","v":{"$error":"#REF!"}},{"$f":"'11 класс '!#REF!","v":{"$error":"#REF!"}}]
[225,{"$f":"'11 класс '!#REF!","v":{"$error":"#REF!"}},{"$f":"'11 класс '!#REF!","v":{"$error":"#REF!"}},{"$f":"'11 класс '!#REF!","v":{"$error":"#REF!"}},{"$f":"'11 класс '!#REF!","v":{"$error":"#REF!"}},{"$f":"'11 класс '!#REF!","v":{"$error":"#REF!"}},{"$f":"'11 класс '!#REF!","v":{"$error":"#REF!"}},{"$f":"'11 класс '!#REF!","v":{"$error":"#REF!"}}]
[226,{"$f":"'11 класс '!#REF!","v":{"$error":"#REF!"}},{"$f":"'11 класс '!#REF!","v":{"$error":"#REF!"}},{"$f":"'11 класс '!#REF!","v":{"$error":"#REF!"}},{"$f":"'11 класс '!#REF!","v":{"$error":"#REF!"}},{"$f":"'11 класс '!#REF!","v":{"$error":"#REF!"}},{"$f":"'11 класс '!#REF!","v":{"$error":"#REF!"}},{"$f":"'11 класс '!#REF!","v":{"$error":"#REF!"}}]
[227,{"$f":"'11 класс '!#REF!","v":{"$error":"#REF!"}},{"$f":"'11 класс '!#REF!","v":{"$error":"#REF!"}},{"$f":"'11 класс '!#REF!","v":{"$error":"#REF!"}},{"$f":"'11 класс '!#REF!","v":{"$error":"#REF!"}},{"$f":"'11 класс '!#REF!","v":{"$error":"#REF!"}},{"$f":"'11 класс '!#REF!","v":{"$error":"#REF!"}},{"$f":"'11 класс '!#REF!","v":{"$error":"#REF!"}}]
[228,{"$f":"'11 класс '!#REF!","v":{"$error":"#REF!"}},{"$f":"'11 класс '!#REF!","v":{"$error":"#REF!"}},{"$f":"'11 класс '!#REF!","v":{"$error":"#REF!"}},{"$f":"'11 класс '!#REF!","v":{"$error":"#REF!"}},{"$f":"'11 класс '!#REF!","v":{"$error":"#REF!"}},{"$f":"'11 класс '!#REF!","v":{"$error":"#REF!"}},{"$f":"'11 класс '!#REF!","v":{"$error":"#REF!"}}]
[229,{"$f":"'11 класс '!#REF!","v":{"$error":"#REF!"}},{"$f":"'11 класс '!#REF!","v":{"$error":"#REF!"}},{"$f":"'11 класс '!#REF!","v":{"$error":"#REF!"}},{"$f":"'11 класс '!#REF!","v":{"$error":"#REF!"}},{"$f":"'11 класс '!#REF!","v":{"$error":"#REF!"}},{"$f":"'11 класс '!#REF!","v":{"$error":"#REF!"}},{"$f":"'11 класс '!#REF!","v":{"$error":"#REF!"}}]
[230,{"$f":"'11 класс '!#REF!","v":{"$error":"#REF!"}},{"$f":"'11 класс '!#REF!","v":{"$error":"#REF!"}},{"$f":"'11 класс '!#REF!","v":{"$error":"#REF!"}},{"$f":"'11 класс '!#REF!","v":{"$error":"#REF!"}},{"$f":"'11 класс '!#REF!","v":{"$error":"#REF!"}},{"$f":"'11 класс '!#REF!","v":{"$error":"#REF!"}},{"$f":"'11 класс '!#REF!","v":{"$error":"#REF!"}}]
[231,{"$f":"'11 класс '!#REF!","v":{"$error":"#REF!"}},{"$f":"'11 класс '!#REF!","v":{"$error":"#REF!"}},{"$f":"'11 класс '!#REF!","v":{"$error":"#REF!"}},{"$f":"'11 класс '!#REF!","v":{"$error":"#REF!"}},{"$f":"'11 класс '!#REF!","v":{"$error":"#REF!"}},{"$f":"'11 класс '!#REF!","v":{"$error":"#REF!"}},{"$f":"'11 класс '!#REF!","v":{"$error":"#REF!"}}]
[232,{"$f":"'11 класс '!#REF!","v":{"$error":"#REF!"}},{"$f":"'11 класс '!#REF!","v":{"$error":"#REF!"}},{"$f":"'11 класс '!#REF!","v":{"$error":"#REF!"}},{"$f":"'11 класс '!#REF!","v":{"$error":"#REF!"}},{"$f":"'11 класс '!#REF!","v":{"$error":"#REF!"}},{"$f":"'11 класс '!#REF!","v":{"$error":"#REF!"}},{"$f":"'11 класс '!#REF!","v":{"$error":"#REF!"}}]
[233,{"$f":"'11 класс '!#REF!","v":{"$error":"#REF!"}},{"$f":"'11 класс '!#REF!","v":{"$error":"#REF!"}},{"$f":"'11 класс '!#REF!","v":{"$error":"#REF!"}},{"$f":"'11 класс '!#REF!","v":{"$error":"#REF!"}},{"$f":"'11 класс '!#REF!","v":{"$error":"#REF!"}},{"$f":"'11 класс '!#REF!","v":{"$error":"#REF!"}},{"$f":"'11 класс '!#REF!","v":{"$error":"#REF!"}}]
[234,{"$f":"'11 класс '!#REF!","v":{"$error":"#REF!"}},{"$f":"'11 класс '!#REF!","v":{"$error":"#REF!"}},{"$f":"'11 класс '!#REF!","v":{"$error":"#REF!"}},{"$f":"'11 класс '!#REF!","v":{"$error":"#REF!"}},{"$f":"'11 класс '!#REF!","v":{"$error":"#REF!"}},{"$f":"'11 класс '!#REF!","v":{"$error":"#REF!"}},{"$f":"'11 класс '!#REF!","v":{"$error":"#REF!"}}]
[235,{"$f":"'11 класс '!#REF!","v":{"$error":"#REF!"}},{"$f":"'11 класс '!#REF!","v":{"$error":"#REF!"}},{"$f":"'11 класс '!#REF!","v":{"$error":"#REF!"}},{"$f":"'11 класс '!#REF!","v":{"$error":"#REF!"}},{"$f":"'11 класс '!#REF!","v":{"$error":"#REF!"}},{"$f":"'11 класс '!#REF!","v":{"$error":"#REF!"}},{"$f":"'11 класс '!#REF!","v":{"$error":"#REF!"}}]
[236,{"$f":"'11 класс '!#REF!","v":{"$error":"#REF!"}},{"$f":"'11 класс '!#REF!","v":{"$error":"#REF!"}},{"$f":"'11 класс '!#REF!","v":{"$error":"#REF!"}},{"$f":"'11 класс '!#REF!","v":{"$error":"#REF!"}},{"$f":"'11 класс '!#REF!","v":{"$error":"#REF!"}},{"$f":"'11 класс '!#REF!","v":{"$error":"#REF!"}},{"$f":"'11 класс '!#REF!","v":{"$error":"#REF!"}}]
[237,{"$f":"'11 класс '!#REF!","v":{"$error":"#REF!"}},{"$f":"'11 класс '!#REF!","v":{"$error":"#REF!"}},{"$f":"'11 класс '!#REF!","v":{"$error":"#REF!"}},{"$f":"'11 класс '!#REF!","v":{"$error":"#REF!"}},{"$f":"'11 класс '!#REF!","v":{"$error":"#REF!"}},{"$f":"'11 класс '!#REF!","v":{"$error":"#REF!"}},{"$f":"'11 класс '!#REF!","v":{"$error":"#REF!"}}]